BEGIN:VCALENDAR
VERSION:2.0
PRODID:-//WOMBLAB - ECPv6.15.20//NONSGML v1.0//EN
CALSCALE:GREGORIAN
METHOD:PUBLISH
X-ORIGINAL-URL:https://womblab.com
X-WR-CALDESC:Events for WOMBLAB
REFRESH-INTERVAL;VALUE=DURATION:PT1H
X-Robots-Tag:noindex
X-PUBLISHED-TTL:PT1H
BEGIN:VTIMEZONE
TZID:Europe/Rome
BEGIN:DAYLIGHT
TZOFFSETFROM:+0100
TZOFFSETTO:+0200
TZNAME:CEST
DTSTART:20240331T010000
END:DAYLIGHT
BEGIN:STANDARD
TZOFFSETFROM:+0200
TZOFFSETTO:+0100
TZNAME:CET
DTSTART:20241027T010000
END:STANDARD
BEGIN:DAYLIGHT
TZOFFSETFROM:+0100
TZOFFSETTO:+0200
TZNAME:CEST
DTSTART:20250330T010000
END:DAYLIGHT
BEGIN:STANDARD
TZOFFSETFROM:+0200
TZOFFSETTO:+0100
TZNAME:CET
DTSTART:20251026T010000
END:STANDARD
BEGIN:DAYLIGHT
TZOFFSETFROM:+0100
TZOFFSETTO:+0200
TZNAME:CEST
DTSTART:20260329T010000
END:DAYLIGHT
BEGIN:STANDARD
TZOFFSETFROM:+0200
TZOFFSETTO:+0100
TZNAME:CET
DTSTART:20261025T010000
END:STANDARD
BEGIN:DAYLIGHT
TZOFFSETFROM:+0100
TZOFFSETTO:+0200
TZNAME:CEST
DTSTART:20270328T010000
END:DAYLIGHT
BEGIN:STANDARD
TZOFFSETFROM:+0200
TZOFFSETTO:+0100
TZNAME:CET
DTSTART:20271031T010000
END:STANDARD
END:VTIMEZONE
BEGIN:VEVENT
DTSTART;VALUE=DATE:20251026
DTEND;VALUE=DATE:20251029
DTSTAMP:20260425T161545
CREATED:20250509T102723Z
LAST-MODIFIED:20251107T164402Z
UID:26527-1761436800-1761695999@womblab.com
SUMMARY:FLEBOLOGIA E LINFOLOGIA DEL TERZO MILLENNIO: LAVORARE INSIEME SI PUÒ E SI DEVE
DESCRIPTION:26-27-28 OTT 2025\n \nDal 26-10-2025 al 28-10-2025\nInizio iscrizioni: 17-04-2025 \nFine iscrizione: 28-10-2025 \nCrediti ECM : 4.2 \nID Agenas: 451298 \nSegreteria organizzativa & Provider ECM: 4596 \n\nISCRIVITI\n \nPresentazione\nFlebologia e Linfologia del Terzo Millennio: lavorare insieme si può e si deve \nLa Flebologia italiana sta vivendo una fase di grande rinnovamento! \nUn nuovo spirito di collaborazione tra le principali Società Scientifiche sta portando alla creazione di una rete nazionale delle malattie vascolari e alla stesura condivisa di linee guida ufficiali. \nNasce così il Congresso Congiunto tra l’Associazione Flebologica Italiana e il Collegio Italiano di Flebologia\, insieme alla partecipazione della SILFO. Un’occasione unica per affrontare insieme temi centrali come: \n✔️ Formazione dei giovani flebologi \n✔️ Malattia Venosa Cronica\, Tromboembolismo e Patologie Linfatiche \n✔️ Laboratori pratici con esperti (Ecocolordoppler\, Terapie ablative\, Ulcere\, Elastocompressione…) \nUn evento all’insegna della condivisione scientifica\, della formazione di qualità e di una nuova visione integrata per il futuro della Flebologia e Linfologia in Italia. \nElenco delle professioni e discipline a cui l’evento è rivolto\nMedico chirurgo\, Anestesia e rianimazione\, Angiologia\, Cardiochirurgia\, Cardiologia\, Chirurgia Generale\, Chirurgia plastica e ricostruttiva\, Chirurgia toracica\, Chirurgia vascolare\, Malattie dell’apparato respiratorio\, Medicina nucleare\, Neurochirurgia\, Neurologia\, Neuroradiologia\, Oncologia\, Radiodiagnostica\, Radioterapia\, Infermiere\, Tecnico sanitario di radiologia medica\, Specializzando\, In formazione. \nLocalizzazione\nHotel NH Torino Centro\nC.so Vittorio Emanuele II\, 104\, 10121 Torino (TO) \n\nISCRIVITI
URL:https://womblab.com/evento/flebologia-e-linfologia-del-terzo-millennio-lavorare-insieme-si-puo-e-si-deve/
LOCATION:Hotel NH Torino Centro C.so Vittorio Emanuele II\, 104\, C.so Vittorio Emanuele II\, 104\, Torino\, 10121\, Italia
CATEGORIES:Flebologia,Linfologia
ATTACH;FMTTYPE=image/jpeg:https://womblab.com/wp-content/uploads/2025/05/cif2025.jpeg
ORGANIZER;CN="WOMBLAB":MAILTO:segreteria@womblab.com
END:VEVENT
BEGIN:VEVENT
DTSTART;VALUE=DATE:20251128
DTEND;VALUE=DATE:20251130
DTSTAMP:20260425T161545
CREATED:20250527T081716Z
LAST-MODIFIED:20250715T111643Z
UID:27312-1764288000-1764460799@womblab.com
SUMMARY:XI CONGRESSO NAZIONALE SISAV: INNOVAZIONI E SFIDE NEL TRATTAMENTO DELLE ANOMALIE VASCOLARI: PROSPETTIVE MULTIDISCIPLINARI
DESCRIPTION:01-02 Dec 2025\n \nDal 27-11-2025 al 29-11-2025\nInizio iscrizioni: 21-05-2025 \nFine iscrizione: 27-11-2025 \nCrediti ECM: 11.2 \nID Agenas: 452232 \nSegreteria organizzativa e Provider ECM: 4596 \n\nISCRIVITI\n \nPresentazione\nXI CONGRESSO NAZIONALE SISAV: \nINNOVAZIONI E SFIDE NEL TRATTAMENTO DELLE ANOMALIE VASCOLARI: PROSPETTIVE MULTIDISCIPLINARI \n27—29 Novembre 2025 | Milano \nPresidenti: \nDott.ssa Vittoria Baraldini\nDott. Riccardo Cava \nComitato Scientifico: \nDott. Enrico Bernè\nProf. Gianpaolo Carrafiello\nDott.ssa Elisa Cattaneo\nDott. Piero Di Giuseppe\nProf.ssa Anna Maria Ierardi\nDott.ssa Luciana Marzella\nProf. Raul Mattassi\nDott.ssa Laura Moneghini\nDott. Nicola Adriano Monzani \nElenco delle professioni e discipline a cui l’evento è rivolto\nMedico chirurgo:Anatomia patologica\, Angiologia\, Chirurgia Generale\, Chirurgia Maxillo-facciale\, Chirurgia pediatrica\, Chirurgia plastica e ricostruttiva\, Chirurgia vascolare\, Dermatologia e venereologia\, Ematologia\, Genetica medica\, Laboratorio di genetica medica\, Medicina fisica e riabilitazione\, Medicina generale (Medici di famiglia)\, Neonatologia\, Neuroradiologia\, Ortopedia e traumatologia\, Pediatria\, Pediatria (pediatri di libera scelta)\, Psicoterapia\, Radiodiagnostica \nPsicologo:Psicologia\, Psicoterapia \nTecnico ortopedico:Iscritto nell’elenco speciale ad esaurimento\, Tecnico ortopedico \nSpecializzando:In formazione \nLocalizzazione\nUniversità degli Studi di Milano \nVia Festa del Perdono\, 7\, 20122 Milano (MI) \nTel. 02 5032 5032 \n\nISCRIVITI
URL:https://womblab.com/evento/xi-congresso-nazionale-sisav-innovazioni-e-sfide-nel-trattamento-delle-anomalie-vascolari-prospettive-multidisciplinari/
LOCATION:Starhotel Business Palace\, Via Privata Pietro Gaggia\, 3\, MIlano\, 20139\, Italy
CATEGORIES:WOMBLAB
ATTACH;FMTTYPE=image/jpeg:https://womblab.com/wp-content/uploads/2025/05/d29tYmxhYi91cGxvYWRzL2V2ZW50L2MwMDlhNDExNTIzYjVjMmJiMThkMzA1M2FlNWFlY2M1NDczN2U2NzUuanBn_W3sid2lkdGgiOjYwMCwiaGVpZ2h0Ijo0MDB9XQ_hippocratesIntelligentResize.jpg
ORGANIZER;CN="WOMBLAB":MAILTO:segreteria@womblab.com
END:VEVENT
BEGIN:VEVENT
DTSTART;VALUE=DATE:20251201
DTEND;VALUE=DATE:20251202
DTSTAMP:20260425T161545
CREATED:20250509T091447Z
LAST-MODIFIED:20251107T143419Z
UID:26498-1764547200-1764633599@womblab.com
SUMMARY:BIC 2025: IL TEAM MULTIDISCIPLINARE IN CHIRURGIA TORACICA
DESCRIPTION:01 Dec 2025\n \n01-12-2025\nInizio iscrizioni: 17-04-2025 \nFine iscrizione: 01-12-2025 \nCrediti ECM:5.6 \nID Agenas: 452374 \nSegreteria organizzativa e Provider ECM: 4596 \n\nISCRIVITI\n \nPresentazione\nResponsabili scientici: \nReinhold Perkmann\nFrancesco Zaraca\nAlessandro Marra \nElenco delle professioni e discipline a cui l’evento è rivolto\nMedico chirurgo\, Anestesia e rianimazione\, Angiologia\, Cardiochirurgia\, Cardiologia\, Chirurgia Generale\, Chirurgia plastica e ricostruttiva\, Chirurgia toracica\, Chirurgia vascolare\, Malattie dell’apparato respiratorio\, Medicina nucleare\, Neurochirurgia\, Neurologia\, Neuroradiologia\, Oncologia\, Radiodiagnostica\, Radioterapia\, Infermiere\, Tecnico sanitario di radiologia medica\, Specializzando\, In formazione. \nLocalizzazione\nEurac Research \nViale Druso Drususallee\, 1\, 39100 Bolzano\, Autonome Provinz Bozen – Südtirol\, 39100 Bolzano (BZ) \n\nISCRIVITI
URL:https://womblab.com/evento/bic-2025-il-team-multidisciplinare-in-chirurgia-toracica/
LOCATION:Eurac Research\, Viale Druso Drususallee\, 1\,\, Bolzano\, 39100\, Italia
CATEGORIES:Chirurgia Toracica,WOMBLAB
ATTACH;FMTTYPE=image/jpeg:https://womblab.com/wp-content/uploads/2025/05/bic2025.jpeg
ORGANIZER;CN="WOMBLAB":MAILTO:segreteria@womblab.com
END:VEVENT
BEGIN:VEVENT
DTSTART;VALUE=DATE:20251201
DTEND;VALUE=DATE:20251203
DTSTAMP:20260425T161545
CREATED:20250509T093821Z
LAST-MODIFIED:20250515T084438Z
UID:26517-1764547200-1764719999@womblab.com
SUMMARY:XIX UPDATE IN ANESTESIA OSTETRICA
DESCRIPTION:01-02 Dec 2025\n																														 \nDal 01-12-2025 al 02-12-2025\nInizio iscrizioni: 17-04-2025 \nFine iscrizione: 01-12-2025 \nCrediti ECM:5.6 \nID Agenas: 452374 \nSegreteria organizzativa e Provider ECM: 4596 \n					\n									ISCRIVITI\n					 \nPresentazione\nNelle date 1 – 2 dicembre 2025 si terrà a Bergamo la XIX edizione dell’UPDATE in anestesia ostetrica.La consolidata formula di lezioni frontali\, la discussione dei casi clinici\, la preparazionedi Workshop\, Learning Corner pratici\, sono da sempre il punto di forzaed il successo del congresso. \nResponsabile scientifico: Prof. F. Luca Lorini \nPer informazioni \nginevra@womblab.comM: +39 327 2354416P: +39 011 4336307 \nElenco delle professioni e discipline a cui l’evento è rivolto\nMedico chirurgo\, Anestesia e rianimazione\, Chirurgia generale\, Chirurgia vascolare\, Ginecologia e ostetricia\, Infermiere\, Ostetrica/o\, Specializzando in formazione \nLocalizzazione\nBergamo – Centro Congressi Giovanni XXIIIViale Papa Giovanni XXIII\, 106\,\, 24121 Bergamo (BG) \n					\n									ISCRIVITI
URL:https://womblab.com/evento/xix-update-in-anestesia-ostetrica/
LOCATION:Centro Congressi Papa Giovanni XXIII\, Viale Papa Giovanni XXIII n. 106\, Bergamo\, BG\, 24121\, Italia
CATEGORIES:WOMBLAB
ATTACH;FMTTYPE=image/jpeg:https://womblab.com/wp-content/uploads/2025/05/update2025.jpeg
ORGANIZER;CN="WOMBLAB":MAILTO:segreteria@womblab.com
END:VEVENT
BEGIN:VEVENT
DTSTART;TZID=Europe/Rome:20251215T080000
DTEND;TZID=Europe/Rome:20251216T170000
DTSTAMP:20260425T161545
CREATED:20251001T121317Z
LAST-MODIFIED:20251107T165006Z
UID:28867-1765785600-1765904400@womblab.com
SUMMARY:ICIO25 Meets the Future
DESCRIPTION:01-02 Dec 2025\n\n \nDal 15-12-2025 al 16-12-2025\nInizio iscrizioni: 17-07-2025 \nFine iscrizione: 14-12-2025 \nSegreteria organizzativa: WOMBLAB SRL \n\nCome Join Us\n \nPresentazione\nITALIAN CONFERENCE ON INTERVENTIONAL ONCOLOGY \nCOURSE PRESIDENTS\nL. Brunese\, G. Carrafiello \ninfo@womblab.com\nM: +39 389 8973480\nP: +39 011 4336307 \nElenco delle professioni e discipline a cui l’evento è rivolto\nMedico chirurgo\, Anestesia e rianimazione\, Chirurgia generale\, Chirurgia vascolare\, Ginecologia e ostetricia\, Infermiere\, Ostetrica/o\, Specializzando in formazione \nLocalizzazione\nHotel NH Collection Milano CityLife\nVia Bartolomeo Colleoni\, 14\n20149 Milano MI \n\nJOIN US
URL:https://womblab.com/evento/icio25-meets-the-future/
LOCATION:NH CityLife | Milan\, Via Bartolomeo Colleoni\, 14\, Milano\, 20149
CATEGORIES:WOMBLAB
ATTACH;FMTTYPE=image/png:https://womblab.com/wp-content/uploads/2025/10/Screenshot-2025-10-01-alle-14.09.44.png
ORGANIZER;CN="WOMBLAB":MAILTO:segreteria@womblab.com
END:VEVENT
BEGIN:VEVENT
DTSTART;VALUE=DATE:20260228
DTEND;VALUE=DATE:20260301
DTSTAMP:20260425T161545
CREATED:20260121T101109Z
LAST-MODIFIED:20260121T130611Z
UID:29064-1772236800-1772323199@womblab.com
SUMMARY:BRESCIA NEL CUORE 2.0: INNOVAZIONE\, TECNOLOGIE E IA
DESCRIPTION:dal 28-02-2026 al 28-02-2026\n																														 \n28-02-2026 \nInizio iscrizioni: 15-01-2026 \nFine iscrizione: 28-02-2026 \nCrediti ECM: 8.0 \nID Agenas: 471752 \nSegreteria organizzativa e Provider ECM: 4596 \n					\n									ISCRIVITI\n					 \nPresentazione\nL’assistenza infermieristica in area critica è oggi chiamata a confrontarsi con scenari clinici sempre più complessi\, caratterizzati da un’elevata intensità di cura\, dall’evoluzione tecnologica e dall’integrazione crescente dell’innovazione digitale e dell’intelligenza artificiale nei processi assistenziali. Il convegno “Brescia nel Cuore 2.0 – Aggiornamento in anestesia e area critica” nasce con l’obiettivo di offrire un momento di confronto e aggiornamento professionale sui principali temi dell’assistenza infermieristica in terapia intensiva\, valorizzando competenze cliniche avanzate\, capacità decisionali e responsabilità etico-relazionali. Attraverso relazioni che esplorano il rapporto tra tecnologia\, innovazione e pratica assistenziale\, il percorso formativo accompagna i partecipanti fino alle delicate tematiche del fine vita\, con particolare attenzione alla Donation after Circulatory Death (DCD)\, ai percorsi assistenziali\, alle competenze infermieristiche e agli aspetti etici e bioetici. Un focus specifico sarà dedicato al fine vita in area critica\, inteso come processo clinico\, relazionale e umano\, in cui l’infermiere riveste un ruolo centrale nell’accompagnamento del paziente e della famiglia\, nel rispetto della dignità\, delle scelte e dei valori della persona. \nResponsabili scientifici: \nDott. Pierangelo Simonelli \nDott. Sergio Cattaneo \nDott. Ramos Nilson De Souza \nDott. Andrea Travaini \nPer informazioni \nalice@womblab.com \nT | 011 433 6307 \nM | 320 280 5861 \nElenco delle professioni e discipline a cui l’evento è rivolto\nMedico chirurgo (anestesia e rianimazione)\, infermieri\, infermieri pediatrici\, tecnico della fisiopatologia cardiocircolatoria e perfusione cardiovascolare. \nLocalizzazione\nUniversità degli Studi di Brescia – Aula ConsiliareViale Europa 11 – 25123 Brescia (BS) \n					\n									ISCRIVITI
URL:https://womblab.com/evento/brescia-nel-cuore-2-0-innovazione-tecnologie-e-ia/
LOCATION:Università degli Studi di Brescia – Aula Consiliare\, Viale Europa 11 – 25123 Brescia (BS)\, Brescia\, BS\, 25121\, Italy
ORGANIZER;CN="WOMBLAB":MAILTO:segreteria@womblab.com
END:VEVENT
BEGIN:VEVENT
DTSTART;TZID=Europe/Rome:20260310T080000
DTEND;TZID=Europe/Rome:20260310T170000
DTSTAMP:20260425T161545
CREATED:20260310T090020Z
LAST-MODIFIED:20260310T090933Z
UID:29168-1773129600-1773162000@womblab.com
SUMMARY:2006-2026: I PRIMI 20 ANNI DI CHIRURGIA VASCOLARE A POTENZA
DESCRIPTION:13-14 apr 2026\n																														 \nDal 13-04-2026 al 14-04-2026\nInizio iscrizioni: 05-03-2026 \nFine iscrizione: 14-04-2026 \nCrediti ECM: 7.0 \nID Agenas: 473644 \nSegreteria organizzativa e Provider ECM: 4596 \n					\n									ISCRIVITI\n					 \nPresentazione\nNel 2026 la Chirurgia Vascolare di Potenza celebra il ventesimo anniversario dalla sua nascita.Tale ricorrenza verrà celebrata con un congresso dedicato alle principali patologie vascolari tempo-dipendenti\, la cui gestione rappresenta un elemento fondamentale del bagaglio culturale del chirurgo vascolare.L’evento rappresenta un’occasione di confronto multidisciplinare\, nel quale verranno presentate le tecniche tradizionali ed innovative per il trattamento delle patologie arteriose e venose in urgenza ed emergenza.L’incontro riserverà ampio spazio alla discussione per condividere e confrontare le nostre esperienze. \n  \nResponsabile scientifico: Andrea Esposito \n  \nPer informazioni \nsofia@womblab.com \nP: 011 433 6307 \nM: +39 335 7127307 \nElenco delle professioni e discipline a cui l’evento è rivolto\nMedico chirurgo: Cardiochirurgia\, Cardiologia\, Chirurgia Generale\, Chirurgia toracica\, Chirurgia vascolare\, Radiodiagnostica.  \nLocalizzazione\nPotenza – MUSEO ARCHEOLOGICO DINU ADAMESTEANU\n\nVIA ANDREA SERRAO\, 11\, 85100 Potenza (PZ)\nTel. 0971 21719\n\n					\n									ISCRIVITI
URL:https://womblab.com/evento/2006-2026-i-primi-20-anni-di-chirurgia-vascolare-a-potenza/
END:VEVENT
BEGIN:VEVENT
DTSTART;VALUE=DATE:20260320
DTEND;VALUE=DATE:20260321
DTSTAMP:20260425T161545
CREATED:20260121T103040Z
LAST-MODIFIED:20260121T110635Z
UID:29071-1773964800-1774051199@womblab.com
SUMMARY:DALLA DIAGNOSI ALLA CURA: LE SFIDE DELLA CHIRURGIA PEDIATRICA MULTISPECIALISTICA ALL’OSPEDALE MARTINI
DESCRIPTION:20-03-2026\n \nDal 20-03-2026 al 20-03-2026\nInizio iscrizioni: 15-01-2026 \nFine iscrizione: 20-03-2026 \nCrediti ECM: 4.0 \nID Agenas: 474155 \nSegreteria organizzativa e Provider ECM: 4596 \n\nISCRIVITI\n \nPresentazione\nIl congresso è dedicato al percorso chirurgico del paziente pediatrico\, con l’obiettivo di favorire l’integrazione tra ospedale e territorio. Attraverso un confronto multidisciplinare\, l’evento approfondisce valutazione preoperatoria\, tecniche chirurgiche e anestesiologiche\, percorsi assistenziali e presa in carico globale del bambino e della famiglia\, promuovendo continuità\, sicurezza e qualità delle cure. \nResponsabili scientifici: \nDott. Alberto Musso\nDott.ssa Cristina Pasero \nPer informazioni \nginevra@womblab.com\nM: +39 327 2354416\nP: +39 011 4336307 \nElenco delle professioni e discipline a cui l’evento è rivolto\nMedico chirurgo\n\nChirurgia pediatrica\nMedicina generale (Medici di famiglia)\nPediatria\nPediatria (pediatri di libera scelta)\n\nLocalizzazione\nTorino – Holiday Inn Turin – Corso Francia by IHG \nCorso Francia\, Piazza Massaua\, 21\, 10142 Torino (TO) \n\nISCRIVITI
URL:https://womblab.com/evento/dalla-diagnosi-alla-cura-le-sfide-della-chirurgia-pediatrica-multispecialistica-allospedale-martini/
LOCATION:Torino – Holiday Inn Turin – Corso Francia by IHG\, Corso Francia\, Piazza Massaua\, 21\, 10142 Torino (TO)\, Torino\, TO\, 10142\, Italy
ORGANIZER;CN="WOMBLAB":MAILTO:segreteria@womblab.com
END:VEVENT
BEGIN:VEVENT
DTSTART;VALUE=DATE:20260507
DTEND;VALUE=DATE:20260509
DTSTAMP:20260425T161545
CREATED:20260121T103518Z
LAST-MODIFIED:20260121T110308Z
UID:29076-1778112000-1778284799@womblab.com
SUMMARY:NEW TRENDS IN VASCULAR SURGERY 3RD EDITION
DESCRIPTION:Dal 07-05-2026 al 08-05-2026\n																														 \nDal 07-05-2026 al 08-05-2026\nInizio iscrizioni: 12-01-2026 \nFine iscrizione: 06-05-2026 \nCrediti ECM: 9.1 \nID Agenas: 473732 \nSegreteria organizzativa e Provider ECM: 4596 \n					\n									ISCRIVITI\n					 \nPresentazione\nL’evento è dedicato all’evoluzione delle tecniche endovascolari nel trattamento della patologia aortica e al crescente ruolo della collaborazione multidisciplinare tra chirurgia vascolare e cardiochirurgia. Attraverso un percorso strutturato in più sessioni\, verranno analizzate le principali opzioni terapeutiche per il trattamento dell’arco aortico\, dei segmenti critici dell’aorta e dell’aorta sottorenale\, con particolare attenzione alle innovazioni tecnologiche\, alle indicazioni cliniche e ai risultati a breve\, medio e lungo termine. Ampio spazio sarà inoltre dedicato agli aspetti organizzativi e procedurali della sala operatoria\, con l’obiettivo di migliorare sicurezza\, efficacia ed efficienza del percorso di cura del paziente. \nResponsabili Scientifici:Dott. Pietro VolpeDott. Antonino Alberti Dott.ssa Mafalda Massara \n  \nPer informazioni: \nalice@womblab.com \nT | 011 433 6307 \nM | 320 280 5861 \nElenco delle professioni e discipline a cui l’evento è rivolto\nMedico chirurgo in: anestesia e rianimazione\, angiologia\, cardiochirurgia\, cardiologia\, chirurgia generale\, chirurgia vascolare\, nefrologia\, radiodiagnostica. Tecnico della fisiopatologia cardiocircolatoria e perfusione cardiovascolare\, tecnico sanitario di radiologia medica. \nLocalizzazione\nVilla San Giovanni – FORTEZZA SANTA TRADA \nVia Fiumara Alta\, 10 Loc. Santa Trada di Cannitello\, 89018 Villa San Giovanni (RC) \n					\n									ISCRIVITI
URL:https://womblab.com/evento/new-trends-in-vascular-surgery-3rd-edition/
LOCATION:Villa San Giovanni – FORTEZZA SANTA TRADA\, Via Fiumara Alta\, 10 Loc. Santa Trada di Cannitello\, 89018 Villa San Giovanni (RC)\, Villa San Giovanni\, RC\, 89018\, Italy
ORGANIZER;CN="WOMBLAB":MAILTO:segreteria@womblab.com
END:VEVENT
END:VCALENDAR