BEGIN:VCALENDAR
VERSION:2.0
PRODID:-//WOMBLAB - ECPv6.15.20//NONSGML v1.0//EN
CALSCALE:GREGORIAN
METHOD:PUBLISH
X-ORIGINAL-URL:https://womblab.com
X-WR-CALDESC:Events for WOMBLAB
REFRESH-INTERVAL;VALUE=DURATION:PT1H
X-Robots-Tag:noindex
X-PUBLISHED-TTL:PT1H
BEGIN:VTIMEZONE
TZID:Europe/Rome
BEGIN:DAYLIGHT
TZOFFSETFROM:+0100
TZOFFSETTO:+0200
TZNAME:CEST
DTSTART:20210328T010000
END:DAYLIGHT
BEGIN:STANDARD
TZOFFSETFROM:+0200
TZOFFSETTO:+0100
TZNAME:CET
DTSTART:20211031T010000
END:STANDARD
BEGIN:DAYLIGHT
TZOFFSETFROM:+0100
TZOFFSETTO:+0200
TZNAME:CEST
DTSTART:20220327T010000
END:DAYLIGHT
BEGIN:STANDARD
TZOFFSETFROM:+0200
TZOFFSETTO:+0100
TZNAME:CET
DTSTART:20221030T010000
END:STANDARD
BEGIN:DAYLIGHT
TZOFFSETFROM:+0100
TZOFFSETTO:+0200
TZNAME:CEST
DTSTART:20230326T010000
END:DAYLIGHT
BEGIN:STANDARD
TZOFFSETFROM:+0200
TZOFFSETTO:+0100
TZNAME:CET
DTSTART:20231029T010000
END:STANDARD
END:VTIMEZONE
BEGIN:VEVENT
DTSTART;TZID=Europe/Rome:20220926T080000
DTEND;TZID=Europe/Rome:20220927T170000
DTSTAMP:20260423T051612
CREATED:20220706T075732Z
LAST-MODIFIED:20220919T135859Z
UID:25673-1664179200-1664298000@womblab.com
SUMMARY:XVII CONGRESSO NAZIONALE - Vascular Surgery: The future is now
DESCRIPTION:[vc_row css_animation=”” row_type=”row” use_row_as_full_screen_section=”no” type=”full_width” angled_section=”no” text_align=”left” background_image_as_pattern=”without_pattern”][vc_column css=”.vc_custom_1530701889484{border-right-width: 1px !important;border-right-color: #cccccc !important;border-right-style: solid !important;}”][vc_single_image image=”25728″ img_size=”full” alignment=”center” qode_css_animation=””][vc_empty_space height=”40px”][vc_separator type=”normal”][vc_column_text] \nSede dell’evento\nMuseo Nazionale del Risorgimento Italiano\nPiazza Carlo Alberto\, 8\nTorino \nEvento residenziale in presenza riservato ai soci del collegio utilizzando il codice d’accesso ricevuto via mail. \n\nSEGRETERIA DELEGATA E PROVIDER ECM WOMBLAB SRL \ncollegio@collegioprimvasc.it | www.collprimvasc.com | P: +39 011 4336307 \n\n[/vc_column_text][vc_empty_space height=”40px”][/vc_column][/vc_row][vc_row css_animation=”” row_type=”row” use_row_as_full_screen_section=”no” type=”full_width” angled_section=”no” text_align=”left” background_image_as_pattern=”without_pattern”][vc_column width=”1/3″][/vc_column][vc_column width=”1/3″][vc_empty_space height=”40px”]\n\n	\n	    ISCRIZIONI	\n\n[vc_empty_space height=”40px”]\n\n	\n	    SCARICA IL PROGRAMMA	\n\n[vc_empty_space height=”40px”][/vc_column][vc_column width=”1/3″][/vc_column][/vc_row]
URL:https://womblab.com/evento/xvii-national-congress-vascular-surgery-the-future-is-now/
LOCATION:Museo Nazionale del Risorgimento Italiano\, Piazza Carlo Alberto\, 8\, Torino\, Italia
CATEGORIES:COLLPRIMVASC,Trainingecm_fad,WOMBLAB
ATTACH;FMTTYPE=image/jpeg:https://womblab.com/wp-content/uploads/2022/07/06_Imm.Copertina_RES_Collegio-01-scaled.jpg
ORGANIZER;CN="WOMBLAB %E2%80%93 Collprimvasc":MAILTO:collegio@collegioprimvasc.it
END:VEVENT
END:VCALENDAR