BEGIN:VCALENDAR
VERSION:2.0
PRODID:-//WOMBLAB - ECPv6.15.20//NONSGML v1.0//EN
CALSCALE:GREGORIAN
METHOD:PUBLISH
X-WR-CALNAME:WOMBLAB
X-ORIGINAL-URL:https://womblab.com
X-WR-CALDESC:Events for WOMBLAB
REFRESH-INTERVAL;VALUE=DURATION:PT1H
X-Robots-Tag:noindex
X-PUBLISHED-TTL:PT1H
BEGIN:VTIMEZONE
TZID:Europe/Rome
BEGIN:DAYLIGHT
TZOFFSETFROM:+0100
TZOFFSETTO:+0200
TZNAME:CEST
DTSTART:20200329T010000
END:DAYLIGHT
BEGIN:STANDARD
TZOFFSETFROM:+0200
TZOFFSETTO:+0100
TZNAME:CET
DTSTART:20201025T010000
END:STANDARD
BEGIN:DAYLIGHT
TZOFFSETFROM:+0100
TZOFFSETTO:+0200
TZNAME:CEST
DTSTART:20210328T010000
END:DAYLIGHT
BEGIN:STANDARD
TZOFFSETFROM:+0200
TZOFFSETTO:+0100
TZNAME:CET
DTSTART:20211031T010000
END:STANDARD
BEGIN:DAYLIGHT
TZOFFSETFROM:+0100
TZOFFSETTO:+0200
TZNAME:CEST
DTSTART:20220327T010000
END:DAYLIGHT
BEGIN:STANDARD
TZOFFSETFROM:+0200
TZOFFSETTO:+0100
TZNAME:CET
DTSTART:20221030T010000
END:STANDARD
END:VTIMEZONE
BEGIN:VEVENT
DTSTART;TZID=Europe/Rome:20211216T080000
DTEND;TZID=Europe/Rome:20211217T170000
DTSTAMP:20260423T175808
CREATED:20211130T121324Z
LAST-MODIFIED:20211223T101938Z
UID:25238-1639641600-1639760400@womblab.com
SUMMARY:Congresso Napoli Ventuno
DESCRIPTION:[vc_row css_animation=”” row_type=”row” use_row_as_full_screen_section=”no” type=”full_width” angled_section=”no” text_align=”left” background_image_as_pattern=”without_pattern”][vc_column width=”1/2″ css=”.vc_custom_1530701889484{border-right-width: 1px !important;border-right-color: #cccccc !important;border-right-style: solid !important;}”][vc_column_text] \n16-17 DICEMBRE 2021\nNapoli\n[/vc_column_text][vc_empty_space height=”40px”][vc_single_image image=”25245″ img_size=”full” alignment=”center” qode_css_animation=””][/vc_column][vc_column width=”1/2″][vc_column_text] \nABOUT THIS PROJECT\nCari colleghi\,\nè un piacere invitarvi al Congresso Napoli Ventuno che si svolgerà dal 16 al 17 dicembre.\nQuest’anno il nostro congresso presenta un nuovo format che consiste in due relazioni per argomento : due punti di vista che potranno o non potranno combaciare. I relatori sono caldamente invitati a descrivere la loro personale esperienza e\, magari\, le particolarità che caratterizzano la propria pratica clinica. Quest’anno all’Ospedale del Mare\, si sono aggiunti l’Ospedale Ruggi d’Aragona di Salerno e il Moscati di Avellino\, per sottolineare un percorso iniziale di organizzazione regionale. Uno spazio particolare è stato dato al confronto dei giovani chirurghi vascolari ( specializzandi e non)\, che presentano le loro ricerche scientiche\, con i chirurghi “emeriti” che potranno rimarcare le dierenze con l’approccio precedente alle patologie presentate. Sono previste alcune letture\, sia su argomenti prettamente scientici\, che su argomenti di organizzazione sanitaria.\nPer il corretto svolgimento del congresso è necessario essere sintetici ed esaustivi\, così da dare spazio anche ad eventuali domande e saranno concessi crediti formativi. \nRESPONSABILI SCIENTIFICI\nDott. Gennaro Vigliotti – Napoli\nDott. Giancarlo Accarino – Salerno\nDott. Loris Flora – Avellino \nEVENTO ECM CONGRESSO GENERALE\nFigure accreditate: cardiochirurgia\, chirurgia generale\, chirurgia vascolare\, anestesia e rianimazione\, radiodiagnostica\, cardiologia\, infermieri\, perfusionisti.\nCrediti formativi: 15\nID EVENTO: 336790\nID Provider: 4596 \nEVENTO ECM CORSO INFERMIERI\nFigure accreditate: Infermieri\nCrediti formativi: 3\nID EVENTO: 338171 \nMODALITA’ DI ISCRIZIONE\nGRATUITA per i soci del Collprimvasc\nGRATUITA per gli infermieri\n100 € + IVA solo iscrizione (la quota comprende iscrizione al corso per entrambe le giornate\, coee break e lunch) \nCANCELLATION POLICY\nIn caso di annullamento dell’iscrizione\, non è previsto il rimborso della quota. \nSEDE DEL CORSO\nHotel Royal Continental\nVia Partenope\, 38\n80121 Napoli NA\nwww.royalgroup.it \nSEGRETERIA ORGANIZZATIVA E ECM\nWOMBLAB srl\nCorso G. Matteotti\, 38\n10121 Torino\nT +39 011 4336307\nM +39 346 4761243\nF +39 011 5612849\nmarilena@womblab.com[/vc_column_text][vc_empty_space height=”40px”]\n\n	\n	    Iscrizione Congresso Napoli Ventuno	\n\n[vc_empty_space height=”40px”]\n\n	\n	    Iscrizione Corso per infermieri	\n\n[vc_empty_space height=”40px”]\n\n	\n	    Download programma	\n\n[/vc_column][/vc_row]
URL:https://womblab.com/evento/congresso-napoli-ventuno/
LOCATION:Hotel Royal Continental  Via Partenope\, 38\, 80121  Napoli\, Via Partenope\, 38\, Napoli\, Italia
CATEGORIES:COLLPRIMVASC,WOMBLAB
ATTACH;FMTTYPE=image/jpeg:https://womblab.com/wp-content/uploads/2021/11/06_Imm.Copertina1.jpg
END:VEVENT
END:VCALENDAR