BEGIN:VCALENDAR
VERSION:2.0
PRODID:-//WOMBLAB - ECPv6.15.20//NONSGML v1.0//EN
CALSCALE:GREGORIAN
METHOD:PUBLISH
X-ORIGINAL-URL:https://womblab.com
X-WR-CALDESC:Events for WOMBLAB
REFRESH-INTERVAL;VALUE=DURATION:PT1H
X-Robots-Tag:noindex
X-PUBLISHED-TTL:PT1H
BEGIN:VTIMEZONE
TZID:Europe/Rome
BEGIN:DAYLIGHT
TZOFFSETFROM:+0100
TZOFFSETTO:+0200
TZNAME:CEST
DTSTART:20200329T010000
END:DAYLIGHT
BEGIN:STANDARD
TZOFFSETFROM:+0200
TZOFFSETTO:+0100
TZNAME:CET
DTSTART:20201025T010000
END:STANDARD
BEGIN:DAYLIGHT
TZOFFSETFROM:+0100
TZOFFSETTO:+0200
TZNAME:CEST
DTSTART:20210328T010000
END:DAYLIGHT
BEGIN:STANDARD
TZOFFSETFROM:+0200
TZOFFSETTO:+0100
TZNAME:CET
DTSTART:20211031T010000
END:STANDARD
BEGIN:DAYLIGHT
TZOFFSETFROM:+0100
TZOFFSETTO:+0200
TZNAME:CEST
DTSTART:20220327T010000
END:DAYLIGHT
BEGIN:STANDARD
TZOFFSETFROM:+0200
TZOFFSETTO:+0100
TZNAME:CET
DTSTART:20221030T010000
END:STANDARD
END:VTIMEZONE
BEGIN:VEVENT
DTSTART;TZID=Europe/Rome:20211110T080000
DTEND;TZID=Europe/Rome:20211111T170000
DTSTAMP:20260423T192233
CREATED:20210719T095453Z
LAST-MODIFIED:20211012T084153Z
UID:25029-1636531200-1636650000@womblab.com
SUMMARY:XVI CONGRESSO NAZIONALE - ALTA TECNOLOGIA E SANITÀ: l’EVOLUZIONE CONTINUA
DESCRIPTION:[vc_row css_animation=”” row_type=”row” use_row_as_full_screen_section=”no” type=”full_width” angled_section=”no” text_align=”left” background_image_as_pattern=”without_pattern”][vc_column css=”.vc_custom_1530701889484{border-right-width: 1px !important;border-right-color: #cccccc !important;border-right-style: solid !important;}”][vc_single_image image=”25173″ img_size=”full” alignment=”center” qode_css_animation=””][vc_empty_space height=”40px”][vc_column_text]L’adesione al Congresso Nazionale è riservata ai soci del Collegio Italiano dei Primari Ospedalieri di Chirurgia Vascolare  \nMODALITA’ DI ISCRIZIONE: Lo svolgimento del Congresso Nazionale è previsto in modalità IBRIDA:\n\nin presenza a Perugia riservata ai soci del Collegio Italiano dei Primari Ospedalieri di Chirurgia Vascolare\n in diretta streaming \, APERTO A TUTTI\, su piattaforma FAD: Per iscrizioni clicca qui > ISCRIZIONE CONGRESSO STREAMING\n\nCREDITI ECM\nCongresso RESIDENZIALE IN PRESENZA\nID EVENTO: 329133\nID PROVIDER: 4596\nCrediti ECM erogati: 5.00\nDurata dell’attivita’ formativa 5 h \nCongresso STREAMING – modalità FAD\nID EVENTO: 329128\nID PROVIDER: 4596\nCrediti ECM erogati: 7\,5\nDurata dell’attivita’ formativa 5 h \nSEGRETERIA ORGANIZZATIVA E ECM\nWOMBLAB srl\nCorso G. Matteotti\, 38\n10121 Torino\nT +39 011 4336307\nM +39 346 4761243 \nemail: Segreteria CollPrimVasc <collegio@collegioprimvasc.it>[/vc_column_text][vc_empty_space height=”40px”]\n\n	\n	    Info & iscrizioni STREAMING	\n\n[vc_empty_space height=”40px”]\n\n	\n	    Scarica il Programma	\n\n[/vc_column][/vc_row]
URL:https://womblab.com/evento/xvi-congresso-nazionale-xvi-congresso-nazionale-%e2%80%a8-alta-tecnologia-e-sanita-levoluzione-continua/
CATEGORIES:COLLPRIMVASC,Trainingecm_fad,WOMBLAB
ATTACH;FMTTYPE=image/png:https://womblab.com/wp-content/uploads/2021/07/Schermata-2021-07-26-alle-15.37.55.png
ORGANIZER;CN="WOMBLAB %E2%80%93 Collprimvasc":MAILTO:collegio@collegioprimvasc.it
END:VEVENT
END:VCALENDAR