BEGIN:VCALENDAR
VERSION:2.0
PRODID:-//WOMBLAB - ECPv6.15.20//NONSGML v1.0//EN
CALSCALE:GREGORIAN
METHOD:PUBLISH
X-ORIGINAL-URL:https://womblab.com
X-WR-CALDESC:Events for WOMBLAB
REFRESH-INTERVAL;VALUE=DURATION:PT1H
X-Robots-Tag:noindex
X-PUBLISHED-TTL:PT1H
BEGIN:VTIMEZONE
TZID:Europe/Rome
BEGIN:DAYLIGHT
TZOFFSETFROM:+0100
TZOFFSETTO:+0200
TZNAME:CEST
DTSTART:20190331T010000
END:DAYLIGHT
BEGIN:STANDARD
TZOFFSETFROM:+0200
TZOFFSETTO:+0100
TZNAME:CET
DTSTART:20191027T010000
END:STANDARD
BEGIN:DAYLIGHT
TZOFFSETFROM:+0100
TZOFFSETTO:+0200
TZNAME:CEST
DTSTART:20200329T010000
END:DAYLIGHT
BEGIN:STANDARD
TZOFFSETFROM:+0200
TZOFFSETTO:+0100
TZNAME:CET
DTSTART:20201025T010000
END:STANDARD
BEGIN:DAYLIGHT
TZOFFSETFROM:+0100
TZOFFSETTO:+0200
TZNAME:CEST
DTSTART:20210328T010000
END:DAYLIGHT
BEGIN:STANDARD
TZOFFSETFROM:+0200
TZOFFSETTO:+0100
TZNAME:CET
DTSTART:20211031T010000
END:STANDARD
END:VTIMEZONE
BEGIN:VEVENT
DTSTART;VALUE=DATE:20200213
DTEND;VALUE=DATE:20200215
DTSTAMP:20260424T222729
CREATED:20200108T161259Z
LAST-MODIFIED:20200227T104247Z
UID:24334-1581552000-1581724799@womblab.com
SUMMARY:AORTIC TEAMS: ESPERIENZE A CONFRONTO NELLE PATOLOGIE DELL’ARCO AORTICO
DESCRIPTION:[vc_row css_animation=”” row_type=”row” use_row_as_full_screen_section=”no” type=”full_width” angled_section=”no” text_align=”left” background_image_as_pattern=”without_pattern”][vc_column width=”1/2″ css=”.vc_custom_1530701889484{border-right-width: 1px !important;border-right-color: #cccccc !important;border-right-style: solid !important;}”][vc_column_text] \nMILANO 13 |14 FEBBRAIO 2020\n[/vc_column_text][vc_empty_space height=”40px”][vc_single_image image=”24359″ img_size=”full” alignment=”center” qode_css_animation=””][vc_empty_space height=”40px”][vc_single_image image=”24336″ img_size=”medium” alignment=”center” qode_css_animation=””][/vc_column][vc_column width=”1/2″][vc_empty_space height=”40px”][vc_column_text] \nABOUT THIS PROJECT\nEvento promosso da:\nRete Formativa Chirurgia Vascolare Nord-Ovest\nCampus itineranti di Chirurgia Vascolare per la formazione continua\nSICVE\nCollprimvasc \nDIRETTORI SCIENTIFICI\nDr. C. Novali\nProf. S. Trimarchi Dr. G. Rossi\nProf. M. Antonello \nEVENTO ECM\nID Provider 4596\nID Evento 283836 Ed. 1\nCrediti 8 \nSEDE DEL CORSO\nMilano\nNH Touring Hotel\nVia Iginio Ugo Tarchetti\, 2\, 20121 MI \nSEGRETERIA ORGANIZZATIVA E ECM\nWOMBLAB srl\nCorso G. Matteotti\, 38\n10121 Torino\nT +39 011 4336307\nM +39 346 4761243\nF +39 011 5612849\nbarbara@womblab.com[/vc_column_text][vc_empty_space height=”40px”]\n\n	\n	    Download presentazioni evento	\n\n[vc_empty_space height=”40px”]\n\n	\n	    Download programma	\n\n[vc_empty_space height=”40px”][/vc_column][/vc_row][vc_row css_animation=”” row_type=”row” use_row_as_full_screen_section=”no” type=”full_width” header_style=”light” anchor=”FORM DI ISCRIZIONE” angled_section=”no” text_align=”left” background_image_as_pattern=”without_pattern” z_index=””][vc_column][/vc_column][/vc_row]
URL:https://womblab.com/evento/aortic-teams-esperienze-a-confronto-nelle-patologie-dellarco-aortico/
LOCATION:NH Touring Hotel\, Via Iginio Ugo Tarchetti\, 2\, Milano\, 10121\, Italia
CATEGORIES:COLLPRIMVASC,WOMBLAB
ATTACH;FMTTYPE=image/png:https://womblab.com/wp-content/uploads/2020/01/screen-AORTIC-TEAMS-2.png
END:VEVENT
END:VCALENDAR