BEGIN:VCALENDAR
VERSION:2.0
PRODID:-//WOMBLAB - ECPv6.15.20//NONSGML v1.0//EN
CALSCALE:GREGORIAN
METHOD:PUBLISH
X-ORIGINAL-URL:https://womblab.com
X-WR-CALDESC:Events for WOMBLAB
REFRESH-INTERVAL;VALUE=DURATION:PT1H
X-Robots-Tag:noindex
X-PUBLISHED-TTL:PT1H
BEGIN:VTIMEZONE
TZID:Europe/Rome
BEGIN:DAYLIGHT
TZOFFSETFROM:+0100
TZOFFSETTO:+0200
TZNAME:CEST
DTSTART:20180325T010000
END:DAYLIGHT
BEGIN:STANDARD
TZOFFSETFROM:+0200
TZOFFSETTO:+0100
TZNAME:CET
DTSTART:20181028T010000
END:STANDARD
BEGIN:DAYLIGHT
TZOFFSETFROM:+0100
TZOFFSETTO:+0200
TZNAME:CEST
DTSTART:20190331T010000
END:DAYLIGHT
BEGIN:STANDARD
TZOFFSETFROM:+0200
TZOFFSETTO:+0100
TZNAME:CET
DTSTART:20191027T010000
END:STANDARD
BEGIN:DAYLIGHT
TZOFFSETFROM:+0100
TZOFFSETTO:+0200
TZNAME:CEST
DTSTART:20200329T010000
END:DAYLIGHT
BEGIN:STANDARD
TZOFFSETFROM:+0200
TZOFFSETTO:+0100
TZNAME:CET
DTSTART:20201025T010000
END:STANDARD
END:VTIMEZONE
BEGIN:VEVENT
DTSTART;VALUE=DATE:20191212
DTEND;VALUE=DATE:20191214
DTSTAMP:20260425T005040
CREATED:20191015T103114Z
LAST-MODIFIED:20200310T163710Z
UID:22243-1576108800-1576281599@womblab.com
SUMMARY:ORGANIZZAZIONE DELLO SPAZIO QUALITA’ DELL’ASSISTENZA BINOMIO PER IL SUCCESSO
DESCRIPTION:[vc_row css_animation=”” row_type=”row” use_row_as_full_screen_section=”no” type=”full_width” angled_section=”no” text_align=”left” background_image_as_pattern=”without_pattern”][vc_column width=”1/2″ css=”.vc_custom_1530701889484{border-right-width: 1px !important;border-right-color: #cccccc !important;border-right-style: solid !important;}”][vc_column_text] \nNAPOLI 12 | 13 DICEMBRE 2019\n[/vc_column_text][vc_empty_space height=”40px”][vc_single_image image=”22245″ img_size=”full” alignment=”center” qode_css_animation=””][vc_empty_space height=”40px”]\n\n	\n	    DOWNLOAD presentazioni congresso	\n\n[vc_empty_space height=”40px”]\n\n	\n	    DOWNLOAD PROGRAMMA Congresso di Napoli	\n\n[vc_empty_space height=”40px”]\n\n	\n	    COMUNICATO STAMPA Congresso di Napoli	\n\n[vc_empty_space height=”40px”][vc_column_text] [/vc_column_text][/vc_column][vc_column width=”1/2″][vc_empty_space height=”40px”][vc_column_text] \nABOUT THIS PROJECT\n\n\n\nCari colleghi\, \nè per me un grande piacere invitarvi a Napoli il 12 e il 13 dicembre\, per il Congresso organizzato insieme al Collegio dei Primari di Chirurgia Vascolare.\nIl titolo del Congresso è “Organizzazione dello spazio e qualità della assistenza : binomio per il successo”\, e vuole sottolineare un percorso virtuoso per l’assistenza sanitaria. Tante volte\, visitando i Centri stranieri\, abbiamo constatato quando gli spazi siano organizzati\, e questo crea un ambiente favorevole al nostro lavoro e forse migliora i risultati. \nL’Ospedale del Mare\, nel quale lavoro\, è stato aperto con il Pronto Soccorso\, da circa 1 anno\, ed è nato con l’intento di essere un centro di eccellenza nel Sud della penisola. Nonostante le difficoltà del primo anno di attività\, le idee dei progettisti ( in primis Renzo Piano)\, che avevano previsto un progetto architettonico-sociale per questa struttura\, sembrano in via di realizzazione : spazi adeguati per le degenze e per gli ambulatori\, assistenza di qualità\, e conseguentemente un numero di prestazioni in crescita esponenziale. Durante il congresso parleremo anche di chirurgia vascolare\, con sessioni dedicate a vari temi. In particolare vi sarà una sessione “abstracts” di ora\, con dignità assembleare\, nella quale tutte le Scuole potranno presentare lavori originali\, che saranno discussi in aula. Accetteremo tutti i lavori spediti\, che saranno tutti pubblicati sul volume del Congresso\, ma ne selezioneremo 10 da presentare. \nNapoli ha un suo fascino particolare nel periodo Natalizio. Potrete visitare San Gregorio Armeno\, dove si creano i famosi personaggio del Presepe Napoletano\, visitare i Musei e i luoghi archeologici cittadini\, o il Museo della Medicina\, e fare lo shopping in una atmosfera magica\, in una città dove lo spirito natalizio è sempre vivo. \nVi aspetto a Napoli\, con l’idea di condividere\, con tutti voi\, problemi e soluzioni della nostra attività medica quotidiana. \nGennaro Vigliotti \n\n\n\nCorso a numero chiuso: max 150 persone \nEvento accreditato ECM\nCONGRESSO GENERALE\nCrediti formativi: 5\,6\n(calcolo ore parte dalle 14:30 del primo gg)\nID EVENTO: 275395 \nFigure professionali accreditate\nCardiochirurgia\nChirurgia generale e Vascolare\nInfermieri\nPerfusionisti \nModalità di iscrizione\nPer iscriversi al CONGRESSO GENERALE è necessario scaricare e compilare il modulo di iscrizione ed effettuare il pagamento della quota di iscrizione.\nPer gli infermieri il congresso è gratuito\, è necessario scaricare e compilare il modulo di iscrizione. \nCORSO MEDICI\nCrediti formativi: 3\nID EVENTO: 280716 \nQUOTA DI ISCRIZIONE\n100 € + IVA 22% ( TOT 122 € )\nLa quota comprende: iscrizione al corso per entrambe le giornate\, coffee break e lunch.\n350 € + IVA 22% ( TOT 427 € )\nLa quota comprende iscrizione al corso per entrambe le giornate \, coffe break\, lunch\, cena sociale\, hotel e viaggio. \nMODALITÀ DI PAGAMENTO\nE’ possibile effettuare il pagamento della quota di iscrizione tramite bonifico bancario sul c/c intestato a:\nWOMBLAB S.R.L. – Codice IBAN: IT90 N030 4801 0000 0000 0091 648 \n\noppure è possibile pagare la quota di iscrizione online: \nPRIMA DI PROCEDERE ALLA COMPILAZIONE DEL FORM DI ISCRIZIONE ONLINE è NECESSARIO EFFETTUARE IL PAGAMENTO\, come di seguito indicato: \n\n{{nexipay importo=”122″ descrizione=”CongressoNapoli2019″ codice=”CongressoNapoli2019″ testo=”CLICCA QUI PER EFFETTUARE IL PAGAMENTO DI € 122″ email=”elide@womblab.com”}}\n{{nexipay importo=”427″ descrizione=”CongressoNapoli2019″ codice=”CongressoNapoli2019″ testo=”CLICCA QUI PER EFFETTUARE IL PAGAMENTO DI € 427″ email=”elide@womblab.com”}}\n\ndopo aver effettuato il pagamento sarà necessario inserire nel form di iscrizione (Che troverete di seguito) nell’apposito spazio “PAGAMENTO”\, selezionare “Carda di Credito” \nil numero d’ordine di avvenuto pagamento ricevuto per email. \nCORSO INFERMIERI\nCrediti formativi: 3\nID EVENTO: 280715 \nFigure professionali accreditate\nsolo infermieri\nQUOTA DI ISCRIZIONE GRATUITA PER GLI INFERMIERI\nper iscriversi è necessario scaricare il MODULO DI ISCRIZIONE RISERVATA AGLI INFERMIERI e inviarla alla mail elide@womblab.com\n \nSEGRETERIA ORGANIZZATIVA E PROVIDER ECM\nWOMBLAB.com\nT. +39 011 4336307 / M. +39 348 6194822 / Fax +39 011 5612849\nelide@womblab.com[/vc_column_text][vc_empty_space height=”40px”]\n\n	\n	    DOWNLOAD PROGRAMMA CONGRESSO	\n\n[vc_empty_space height=”40px”]\n\n	\n	    MODULO DI ISCRIZIONE CONGRESSO	\n\n[vc_empty_space height=”40px”]\n\n	\n	    MODULO DI ISCRIZIONE CORSO PER MEDICI	\n\n[vc_empty_space height=”40px”]\n\n	\n	    MODULO DI ISCRIZIONE CONGRESSO PER INFERMIERI	\n\n[vc_empty_space height=”40px”][/vc_column][/vc_row][vc_row css_animation=”” row_type=”row” use_row_as_full_screen_section=”no” type=”full_width” angled_section=”no” text_align=”left” background_image_as_pattern=”without_pattern”][vc_column][vc_widget_sidebar sidebar_id=”Iscrizione ad evento a pagamento (elide)”][/vc_column][/vc_row]
URL:https://womblab.com/evento/organizzazione-dello-spazio-qualita-dellassistenza-binomio-per-il-successo/
LOCATION:Ospedale del Mare di Napoli\, Ospedale del Mare di Napoli\, Ospedale del Mare di Napoli\, Italia
CATEGORIES:COLLPRIMVASC,WOMBLAB
ATTACH;FMTTYPE=image/png:https://womblab.com/wp-content/uploads/2019/10/napoli-min.png
END:VEVENT
END:VCALENDAR