BEGIN:VCALENDAR
VERSION:2.0
PRODID:-//WOMBLAB - ECPv6.15.20//NONSGML v1.0//EN
CALSCALE:GREGORIAN
METHOD:PUBLISH
X-WR-CALNAME:WOMBLAB
X-ORIGINAL-URL:https://womblab.com
X-WR-CALDESC:Events for WOMBLAB
REFRESH-INTERVAL;VALUE=DURATION:PT1H
X-Robots-Tag:noindex
X-PUBLISHED-TTL:PT1H
BEGIN:VTIMEZONE
TZID:Europe/Rome
BEGIN:DAYLIGHT
TZOFFSETFROM:+0100
TZOFFSETTO:+0200
TZNAME:CEST
DTSTART:20180325T010000
END:DAYLIGHT
BEGIN:STANDARD
TZOFFSETFROM:+0200
TZOFFSETTO:+0100
TZNAME:CET
DTSTART:20181028T010000
END:STANDARD
BEGIN:DAYLIGHT
TZOFFSETFROM:+0100
TZOFFSETTO:+0200
TZNAME:CEST
DTSTART:20190331T010000
END:DAYLIGHT
BEGIN:STANDARD
TZOFFSETFROM:+0200
TZOFFSETTO:+0100
TZNAME:CET
DTSTART:20191027T010000
END:STANDARD
BEGIN:DAYLIGHT
TZOFFSETFROM:+0100
TZOFFSETTO:+0200
TZNAME:CEST
DTSTART:20200329T010000
END:DAYLIGHT
BEGIN:STANDARD
TZOFFSETFROM:+0200
TZOFFSETTO:+0100
TZNAME:CET
DTSTART:20201025T010000
END:STANDARD
END:VTIMEZONE
BEGIN:VEVENT
DTSTART;TZID=Europe/Rome:20191022T070000
DTEND;TZID=Europe/Rome:20191022T070000
DTSTAMP:20260425T032028
CREATED:20190925T135418Z
LAST-MODIFIED:20191119T135221Z
UID:22056-1571727600-1571727600@womblab.com
SUMMARY:SICVE RUN - CORRERE O CAMMINARE PER LA TUA SALUTE VASCOLARE
DESCRIPTION:[vc_row css_animation=”” row_type=”row” use_row_as_full_screen_section=”no” type=”full_width” angled_section=”no” text_align=”left” background_image_as_pattern=”without_pattern”][vc_column width=”1/6″][/vc_column][vc_column width=”2/3″][vc_column_text] \nFIRENZE 22 OTTOBRE 2019\n[/vc_column_text][vc_empty_space height=”40px”][vc_column_text] \n[rev_slider alias=”SICVE_RUN”] \n[/vc_column_text][vc_empty_space height=”40px”][vc_column_text] \n  \n[/vc_column_text][/vc_column][vc_column width=”1/6″][/vc_column][/vc_row][vc_row css_animation=”” row_type=”row” use_row_as_full_screen_section=”no” type=”full_width” angled_section=”no” text_align=”left” background_image_as_pattern=”without_pattern”][vc_column width=”1/2″ css=”.vc_custom_1530701889484{border-right-width: 1px !important;border-right-color: #cccccc !important;border-right-style: solid !important;}”][vc_single_image image=”22205″ img_size=”full” alignment=”center” onclick=”custom_link” img_link_target=”_blank” qode_css_animation=”” link=”http://www.sicve.it”][vc_video link=”https://www.facebook.com/ORE12GROUP/videos/2504009426342697/” el_width=”80″ align=”center”][vc_empty_space height=”40px”]SICVE RUN - PRESS RELASE[vc_empty_space height=”40px”]SICVE RUN - COMUNICATO STAMPA[vc_empty_space height=”40px”]SICVE RUN - FLYER[vc_empty_space height=”40px”]SICVE RUN - VIDEO PROMO: UNISCITI A NOI[vc_empty_space height=”40px”]Medici e cittadini corrono insieme contro il rischio di amputazioni per cause vascolari[/vc_column][vc_column width=”1/2″][vc_column_text] \nINSIEME CONTRO LE MALATTIE VASCOLARI\nSICVE RUN – CORRERE O CAMMINARE PER LA TUA SALUTE VASCOLARE\nUNA GRANDE ASSOCIAZIONE DI PAZIENTI E CULTORI DELLA MATERIA UNITI PER COMBATTERE LE MALATTIE VASCOLARI \nINFORMAZIONI\nEVENTO PODISTICO NON COMPETITIVO PROMOSSO DALL’ASSOCIAZIONE PAZIENTI TITOCCOTOCCATI che mira a sensibilizzare l’opinione pubblica e a combattere sopratutto l’arteriopatia ostruttiva degli arti inferiori e punta l’obiettivo sulla prevenzione primaria che potrebbe iniziare da una semplice palpazione dei polsi periferici. \nAl fine di dimostrare lo stretto legame fra i professionisti delle malattie cardio vascolari e la popolazione\, portando un contributo di vicinanza tra gli operatori di sistema (medici\, infermieri\, tecnici e industria) e la gente comune\, L’EVENTO PODISTICO promosso dalla SICVE e dal COLLPRIMVASC sarà sostenuto sotto il profilo della ORGANIZZAZIONE dal CLUB SPORTIVO FIRENZE\, gruppo satellite della FIRENZE MARATHON. \nQUANDO \nnella mattinata di martedì 22 ottobre alle 7 \nDOVE \npartenza dal Palazzo dei Congressi di Firenze situato in Piazza Adua 1\, \nin un circuito cittadino di 5 KM nel CENTRO STORICO di Firenze \nverrà organizzata\, dall’ASSOCIAZIONE PAZIENTI TITOCCOTOCCATI\, \nuna Corsa/Camminata non competitiva\, al fine di alzare il livello di attenzione sugli stili di vita virtuosi e sul benessere del movimento. \nL’EVENTO è rivolto a tutti gli interessati \nQUOTA DI ISCRIZIONE: 5 EURO  \nche sarà devoluta come donazione alla ASSOCIAZIONE DYNA- MO CAMP onlus\, per le loro attività sociali.\nAi partecipanti iscritti verrà regalata una maglietta tecnica commemorativa dell’EVENTO. \nVISUALIZZA IL PERCORSO  \nPer ISCRIZIONI\nBonifico a Assoc.TiToccoToccati\nIBAN: IT44X0311110200000000031412\nCausale: SICVE Run – Firenze – Associazione pazienti titoccotoccati \nIn loco\n21 ottobre dalle ore 12 alle 17 all’interno del Palazzo dei Congressi \n22 ottobre dalle ore 6.00 in Piazza Adua 1 \nPer INFO \nClaudio Novali – Direttore Chirurgia Vascolare – Cuneo – 3356258550 \nBarbara – Segreteria – 3394158294[/vc_column_text][vc_empty_space height=”40px”][/vc_column][/vc_row][vc_row css_animation=”” row_type=”row” use_row_as_full_screen_section=”no” type=”full_width” angled_section=”no” text_align=”left” background_image_as_pattern=”without_pattern”][vc_column width=”1/6″][/vc_column][vc_column width=”2/3″][vc_empty_space height=”40px”][vc_single_image image=”22071″ img_size=”medium” alignment=”center” qode_css_animation=””][vc_empty_space height=”40px”][vc_column_text] \nORGANIZZATA DA\n[/vc_column_text][vc_empty_space height=”40px”][vc_single_image image=”22067″ img_size=”medium” alignment=”center” onclick=”custom_link” img_link_target=”_blank” qode_css_animation=”” link=”http://www.titoccotoccati.org”][vc_empty_space height=”40px”][vc_column_text] \nCON IL SOSTEGNO DI\n[/vc_column_text][vc_row_inner row_type=”row” type=”full_width” text_align=”left” css_animation=””][vc_column_inner width=”1/4″][/vc_column_inner][vc_column_inner width=”1/2″][vc_single_image image=”22063″ img_size=”medium” alignment=”center” onclick=”custom_link” img_link_target=”_blank” qode_css_animation=”” link=”http://www.sicve.it”][vc_single_image image=”22095″ alignment=”center” qode_css_animation=””][vc_single_image image=”22068″ img_size=”medium” alignment=”center” onclick=”custom_link” img_link_target=”_blank” qode_css_animation=””][vc_single_image image=”22069″ img_size=”medium” alignment=”center” onclick=”custom_link” img_link_target=”_blank” qode_css_animation=”” link=”http://www.clubsportivofirenze.it”][vc_single_image image=”22070″ img_size=”medium” alignment=”center” onclick=”custom_link” img_link_target=”_blank” qode_css_animation=”” link=”https://www.dynamocamp.org”][/vc_column_inner][vc_column_inner width=”1/4″][/vc_column_inner][/vc_row_inner][/vc_column][vc_column width=”1/6″][/vc_column][/vc_row]
URL:https://womblab.com/evento/sicve-run-correre-o-camminare-per-la-tua-salute-vascolare/
LOCATION:Palazzo dei Congressi Firenze\, piazza Adua\, 1\, Firenze\, Italia
CATEGORIES:COLLPRIMVASC,WOMBLAB
ATTACH;FMTTYPE=image/png:https://womblab.com/wp-content/uploads/2019/09/Schermata-2019-09-25-alle-16.00.59.png
END:VEVENT
END:VCALENDAR