BEGIN:VCALENDAR
VERSION:2.0
PRODID:-//WOMBLAB - ECPv6.15.20//NONSGML v1.0//EN
CALSCALE:GREGORIAN
METHOD:PUBLISH
X-ORIGINAL-URL:https://womblab.com
X-WR-CALDESC:Events for WOMBLAB
REFRESH-INTERVAL;VALUE=DURATION:PT1H
X-Robots-Tag:noindex
X-PUBLISHED-TTL:PT1H
BEGIN:VTIMEZONE
TZID:Europe/Rome
BEGIN:DAYLIGHT
TZOFFSETFROM:+0100
TZOFFSETTO:+0200
TZNAME:CEST
DTSTART:20170326T010000
END:DAYLIGHT
BEGIN:STANDARD
TZOFFSETFROM:+0200
TZOFFSETTO:+0100
TZNAME:CET
DTSTART:20171029T010000
END:STANDARD
BEGIN:DAYLIGHT
TZOFFSETFROM:+0100
TZOFFSETTO:+0200
TZNAME:CEST
DTSTART:20180325T010000
END:DAYLIGHT
BEGIN:STANDARD
TZOFFSETFROM:+0200
TZOFFSETTO:+0100
TZNAME:CET
DTSTART:20181028T010000
END:STANDARD
BEGIN:DAYLIGHT
TZOFFSETFROM:+0100
TZOFFSETTO:+0200
TZNAME:CEST
DTSTART:20190331T010000
END:DAYLIGHT
BEGIN:STANDARD
TZOFFSETFROM:+0200
TZOFFSETTO:+0100
TZNAME:CET
DTSTART:20191027T010000
END:STANDARD
END:VTIMEZONE
BEGIN:VEVENT
DTSTART;VALUE=DATE:20180611
DTEND;VALUE=DATE:20180612
DTSTAMP:20260425T235802
CREATED:20180928T095013Z
LAST-MODIFIED:20190920T132459Z
UID:18906-1528675200-1528761599@womblab.com
SUMMARY:BYPASS IN VENA SAFENA IN SITU
DESCRIPTION:[vc_row css_animation=”” row_type=”row” use_row_as_full_screen_section=”no” type=”full_width” angled_section=”no” text_align=”left” background_image_as_pattern=”without_pattern”][vc_column width=”1/2″ css=”.vc_custom_1530701889484{border-right-width: 1px !important;border-right-color: #cccccc !important;border-right-style: solid !important;}”][vc_column_text] \nFIRENZE 11 GIUGNO 2018\n[/vc_column_text][vc_empty_space height=”40px”][vc_single_image image=”18052″ img_size=”full” style=”vc_box_border” qode_css_animation=””][/vc_column][vc_column width=”1/2″][vc_empty_space height=”40px”][vc_column_text] \nABOUT THIS PROJECT\nI INCONTRO – PARTECIPANTI REGISTRO NAZIONALE \nBypass in vena safena insitu \nSegreteria Organizzativa \nlasegreteria@collegioprimvasc.it \nT. +39 0114336307 \nM. +39 335 7127307 \n[/vc_column_text][vc_empty_space height=”40px”]\n\n	\n	    Download programma	\n\n[vc_empty_space height=”40px”]\n\n	\n	    Download Presentazioni	\n\n[/vc_column][/vc_row]
URL:https://womblab.com/evento/bypass-in-vena-safena-in-situ/
LOCATION:Sala Conferenze Santa Maria Nuova\, Piazza Santa Maria Nuova\, 1\, Firenze\, FI\, Italia
CATEGORIES:COLLPRIMVASC
ATTACH;FMTTYPE=image/png:https://womblab.com/wp-content/uploads/2018/05/FI_11_giu.png
ORGANIZER;CN="WOMBLAB %E2%80%93 Collprimvasc":MAILTO:collegio@collegioprimvasc.it
END:VEVENT
END:VCALENDAR