BEGIN:VCALENDAR
VERSION:2.0
PRODID:-//WOMBLAB - ECPv6.15.20//NONSGML v1.0//EN
CALSCALE:GREGORIAN
METHOD:PUBLISH
X-ORIGINAL-URL:https://womblab.com
X-WR-CALDESC:Events for WOMBLAB
REFRESH-INTERVAL;VALUE=DURATION:PT1H
X-Robots-Tag:noindex
X-PUBLISHED-TTL:PT1H
BEGIN:VTIMEZONE
TZID:Europe/Rome
BEGIN:DAYLIGHT
TZOFFSETFROM:+0100
TZOFFSETTO:+0200
TZNAME:CEST
DTSTART:20170326T010000
END:DAYLIGHT
BEGIN:STANDARD
TZOFFSETFROM:+0200
TZOFFSETTO:+0100
TZNAME:CET
DTSTART:20171029T010000
END:STANDARD
BEGIN:DAYLIGHT
TZOFFSETFROM:+0100
TZOFFSETTO:+0200
TZNAME:CEST
DTSTART:20180325T010000
END:DAYLIGHT
BEGIN:STANDARD
TZOFFSETFROM:+0200
TZOFFSETTO:+0100
TZNAME:CET
DTSTART:20181028T010000
END:STANDARD
BEGIN:DAYLIGHT
TZOFFSETFROM:+0100
TZOFFSETTO:+0200
TZNAME:CEST
DTSTART:20190331T010000
END:DAYLIGHT
BEGIN:STANDARD
TZOFFSETFROM:+0200
TZOFFSETTO:+0100
TZNAME:CET
DTSTART:20191027T010000
END:STANDARD
END:VTIMEZONE
BEGIN:VEVENT
DTSTART;TZID=Europe/Rome:20180418T160000
DTEND;TZID=Europe/Rome:20180419T173000
DTSTAMP:20260426T030122
CREATED:20180927T150022Z
LAST-MODIFIED:20190923T141819Z
UID:18881-1524067200-1524159000@womblab.com
SUMMARY:CORSO TEORICO PRATICO SULLA CHIRURGIA CAROTIDEA
DESCRIPTION:[vc_row css_animation=”” row_type=”row” use_row_as_full_screen_section=”no” type=”full_width” angled_section=”no” text_align=”left” background_image_as_pattern=”without_pattern”][vc_column width=”1/2″ css=”.vc_custom_1530701889484{border-right-width: 1px !important;border-right-color: #cccccc !important;border-right-style: solid !important;}”][vc_column_text] \nNEGRAR 18 | 19 APRILE 2018\n[/vc_column_text][vc_empty_space height=”40px”][vc_single_image image=”18882″ img_size=”full” alignment=”center” qode_css_animation=””][/vc_column][vc_column width=”1/2″][vc_empty_space height=”40px”][vc_column_text] \nABOUT THIS PROJECT\nCorso teorico pratico.\nOltre alle presentazioni tematiche\, comprenderà chirurgia open ed endovascolare in diretta\, offrendo la possibilità di riprodurre i gesti tecnici osservati e appresi\, su modelli anatominci. \nQUOTA DI ISCRIZIONE GRATUITA\nCorso a numero chiuso \nSEDE DEL CORSO\nOspedale Sacro Cuore Don Calabria – Negrar ICLO Verona \nEVENTO ECM\nCrediti: 13\,8\nID Evento: 222377\nID Provider: 4596 \nsegreteria organizzativa e ecm\nSEGRETERIA ORGANIZZATIVA:\nWomblab SRL\nCorso G. Matteotti\, 38\n10121 Torino\nT. +39 011 4336307\nF. +39 011 5612849\nM. +39 346 4761243\nbarbara@womblab.com[/vc_column_text][vc_empty_space height=”40px”]\n\n	\n	    Download programma	\n\n[vc_empty_space height=”40px”][/vc_column][/vc_row]
URL:https://womblab.com/evento/corso-teorico-pratico-sulla-chirurgia-carotidea/
LOCATION:Ospedale Sacro Cuore – Don Calabria\, Via Don A. Sempreboni\, 5\, Negrar\, VR\, Italia
CATEGORIES:COLLPRIMVASC
ATTACH;FMTTYPE=image/jpeg:https://womblab.com/wp-content/uploads/2018/02/OSPEDALE-2.jpg
ORGANIZER;CN="WOMBLAB %E2%80%93 Collprimvasc":MAILTO:collegio@collegioprimvasc.it
END:VEVENT
END:VCALENDAR