BEGIN:VCALENDAR
VERSION:2.0
PRODID:-//WOMBLAB - ECPv6.15.20//NONSGML v1.0//EN
CALSCALE:GREGORIAN
METHOD:PUBLISH
X-WR-CALNAME:WOMBLAB
X-ORIGINAL-URL:https://womblab.com
X-WR-CALDESC:Events for WOMBLAB
REFRESH-INTERVAL;VALUE=DURATION:PT1H
X-Robots-Tag:noindex
X-PUBLISHED-TTL:PT1H
BEGIN:VTIMEZONE
TZID:Europe/Rome
BEGIN:DAYLIGHT
TZOFFSETFROM:+0100
TZOFFSETTO:+0200
TZNAME:CEST
DTSTART:20170326T010000
END:DAYLIGHT
BEGIN:STANDARD
TZOFFSETFROM:+0200
TZOFFSETTO:+0100
TZNAME:CET
DTSTART:20171029T010000
END:STANDARD
BEGIN:DAYLIGHT
TZOFFSETFROM:+0100
TZOFFSETTO:+0200
TZNAME:CEST
DTSTART:20180325T010000
END:DAYLIGHT
BEGIN:STANDARD
TZOFFSETFROM:+0200
TZOFFSETTO:+0100
TZNAME:CET
DTSTART:20181028T010000
END:STANDARD
BEGIN:DAYLIGHT
TZOFFSETFROM:+0100
TZOFFSETTO:+0200
TZNAME:CEST
DTSTART:20190331T010000
END:DAYLIGHT
BEGIN:STANDARD
TZOFFSETFROM:+0200
TZOFFSETTO:+0100
TZNAME:CET
DTSTART:20191027T010000
END:STANDARD
END:VTIMEZONE
BEGIN:VEVENT
DTSTART;TZID=Europe/Rome:20180323T130000
DTEND;TZID=Europe/Rome:20180324T140000
DTSTAMP:20260426T054704
CREATED:20180927T144108Z
LAST-MODIFIED:20190923T125655Z
UID:18875-1521810000-1521900000@womblab.com
SUMMARY:TROMBOEMBOLISMO ARTERO-VENOSO
DESCRIPTION:[vc_row css_animation=”” row_type=”row” use_row_as_full_screen_section=”no” type=”full_width” angled_section=”no” text_align=”left” background_image_as_pattern=”without_pattern”][vc_column width=”1/2″ css=”.vc_custom_1530701889484{border-right-width: 1px !important;border-right-color: #cccccc !important;border-right-style: solid !important;}”][vc_column_text] \nCOSENZA 23 | 24 MARZO 2018\n[/vc_column_text][vc_empty_space height=”40px”][vc_single_image image=”16988″ img_size=”full” style=”vc_box_border” qode_css_animation=””][/vc_column][vc_column width=”1/2″][vc_empty_space height=”40px”][vc_column_text] \nABOUT THIS PROJECT\nEVENTO ECM\nID evento: 220617\nID Provider 4596\nCrediti formativi: 10 \nDISCIPLINE DI RIFERIMENTO\nIl corso è rivolto a chirurghi vascolari\, medici di medicina generale\, medici di informazione\, medici d’urgenza e\npronto soccorso. \nQUOTA DI ISCRIZIONE GRATUITA\nSEDE DEL CONGRESSO\nCastello Svevo\nVia del Castello\nCosenza (CS) \nPresident Hotel\nVia Alessandro Volta\, 47/49\nRende (CS) \nSEGRETERIA ORGANIZZATIVA E PROVIDER ECM\nWomblab S.R.L\nT. + 39 011 4336307\nM. + 39 335 7127307\nF. + 39 011 5612849\nlasegreteria@collegioprimvasc.it[/vc_column_text][vc_empty_space height=”40px”]\n\n	\n	    Download programma	\n\n[vc_empty_space height=”40px”][/vc_column][/vc_row]
URL:https://womblab.com/evento/tromboembolismo-artero-venoso/
LOCATION:Castello Svevo / President Hotel\, Cosenza\, Italia
CATEGORIES:COLLPRIMVASC
ATTACH;FMTTYPE=image/jpeg:https://womblab.com/wp-content/uploads/2018/02/DSC02736.jpg
ORGANIZER;CN="WOMBLAB %E2%80%93 Collprimvasc":MAILTO:collegio@collegioprimvasc.it
END:VEVENT
END:VCALENDAR