BEGIN:VCALENDAR
VERSION:2.0
PRODID:-//WOMBLAB - ECPv6.15.20//NONSGML v1.0//EN
CALSCALE:GREGORIAN
METHOD:PUBLISH
X-WR-CALNAME:WOMBLAB
X-ORIGINAL-URL:https://womblab.com
X-WR-CALDESC:Events for WOMBLAB
REFRESH-INTERVAL;VALUE=DURATION:PT1H
X-Robots-Tag:noindex
X-PUBLISHED-TTL:PT1H
BEGIN:VTIMEZONE
TZID:Europe/Rome
BEGIN:DAYLIGHT
TZOFFSETFROM:+0100
TZOFFSETTO:+0200
TZNAME:CEST
DTSTART:20200329T010000
END:DAYLIGHT
BEGIN:STANDARD
TZOFFSETFROM:+0200
TZOFFSETTO:+0100
TZNAME:CET
DTSTART:20201025T010000
END:STANDARD
BEGIN:DAYLIGHT
TZOFFSETFROM:+0100
TZOFFSETTO:+0200
TZNAME:CEST
DTSTART:20210328T010000
END:DAYLIGHT
BEGIN:STANDARD
TZOFFSETFROM:+0200
TZOFFSETTO:+0100
TZNAME:CET
DTSTART:20211031T010000
END:STANDARD
BEGIN:DAYLIGHT
TZOFFSETFROM:+0100
TZOFFSETTO:+0200
TZNAME:CEST
DTSTART:20220327T010000
END:DAYLIGHT
BEGIN:STANDARD
TZOFFSETFROM:+0200
TZOFFSETTO:+0100
TZNAME:CET
DTSTART:20221030T010000
END:STANDARD
END:VTIMEZONE
BEGIN:VEVENT
DTSTART;TZID=Europe/Rome:20210713T080000
DTEND;TZID=Europe/Rome:20210714T170000
DTSTAMP:20260423T231853
CREATED:20190110T161249Z
LAST-MODIFIED:20210708T145827Z
UID:20448-1626163200-1626282000@womblab.com
SUMMARY:5th EDITION – VASCULAR SURGICAL ANATOMY COURSE
DESCRIPTION:[vc_row css_animation=”” row_type=”row” use_row_as_full_screen_section=”no” type=”full_width” angled_section=”no” text_align=”left” background_image_as_pattern=”without_pattern”][vc_column width=”1/2″ css=”.vc_custom_1530701889484{border-right-width: 1px !important;border-right-color: #cccccc !important;border-right-style: solid !important;}”][vc_column_text] \nVERONA 13 th | 14 th JULY 2021\n[/vc_column_text][vc_empty_space height=”40px”][vc_single_image image=”25002″ img_size=”full” qode_css_animation=””][vc_empty_space height=”40px”][vc_column_text] \nUnder the patronage of:\n[/vc_column_text][vc_empty_space height=”40px”][vc_single_image image=”25003″ img_size=”full” qode_css_animation=””][/vc_column][vc_column width=”1/2″][vc_empty_space height=”40px”][vc_column_text] \n\nABOUT THIS PROJECT\nThis specific vascular course aims at improving knowledge of anatomical access to the thoracic and abdominal aorta and its branches including anatomic laparotomic and laparoscopic dissections and practice on fresh cadavers\, with the contribution of experts in this field of Vascular Surgery. The course is open to Vascular and General Surgeons from around the world who have successfully completed their surgical training or are at an advanced level of training. \nMaximum 30 participants \nThe official language is English. \nOrganizing Committee Luca Garriboli \nCOURSES PRESIDENTS\nMichele Antonello Padova\, Italy\nLuca Garriboli Negrar\, Italy \nHONORARY PRESIDENTS\nMarcello Ceccaroni President ISSA Negrar\, Italy \nTUTORS\nEmiliano Chisci Firenze\, Italy\nEfrem Civilini Milano\, Italy\nGabriele Maritati Brindisi\, Italy\nGian Battista Parlani Perugia\, Italy\nNicola Troisi Firenze\, Italy \nCOURSE LOCATION\nICLO Via Evangelista Torricelli\, 15A 37135 Verona VR \nORGANIZATION OFFICES\nbarbara@womblab.com\nM +39 3464761243 | P: +39 011 4336307 | F: +39 011 5612849[/vc_column_text][vc_empty_space height=”40px”]\n\n	\n	    DOWNLOAD PROGRAM 2021	\n\n[vc_empty_space height=”100px”][/vc_column][/vc_row]
URL:https://womblab.com/evento/5th-edition-vascular-surgical-anatomy-course/
LOCATION:ICLO Verona\, Via Evangelista Torricelli\, 15A\, Verona\, Verona\, 37135\, Italia
CATEGORIES:COLLPRIMVASC,WOMBLAB
ATTACH;FMTTYPE=image/png:https://womblab.com/wp-content/uploads/2019/01/Schermata-2021-07-08-alle-16.46.51.png
END:VEVENT
END:VCALENDAR