BEGIN:VCALENDAR
VERSION:2.0
PRODID:-//WOMBLAB - ECPv6.15.20//NONSGML v1.0//EN
CALSCALE:GREGORIAN
METHOD:PUBLISH
X-ORIGINAL-URL:https://womblab.com
X-WR-CALDESC:Events for WOMBLAB
REFRESH-INTERVAL;VALUE=DURATION:PT1H
X-Robots-Tag:noindex
X-PUBLISHED-TTL:PT1H
BEGIN:VTIMEZONE
TZID:Europe/Rome
BEGIN:DAYLIGHT
TZOFFSETFROM:+0100
TZOFFSETTO:+0200
TZNAME:CEST
DTSTART:20170326T010000
END:DAYLIGHT
BEGIN:STANDARD
TZOFFSETFROM:+0200
TZOFFSETTO:+0100
TZNAME:CET
DTSTART:20171029T010000
END:STANDARD
BEGIN:DAYLIGHT
TZOFFSETFROM:+0100
TZOFFSETTO:+0200
TZNAME:CEST
DTSTART:20180325T010000
END:DAYLIGHT
BEGIN:STANDARD
TZOFFSETFROM:+0200
TZOFFSETTO:+0100
TZNAME:CET
DTSTART:20181028T010000
END:STANDARD
BEGIN:DAYLIGHT
TZOFFSETFROM:+0100
TZOFFSETTO:+0200
TZNAME:CEST
DTSTART:20190331T010000
END:DAYLIGHT
BEGIN:STANDARD
TZOFFSETFROM:+0200
TZOFFSETTO:+0100
TZNAME:CET
DTSTART:20191027T010000
END:STANDARD
END:VTIMEZONE
BEGIN:VEVENT
DTSTART;TZID=Europe/Rome:20181115T140000
DTEND;TZID=Europe/Rome:20181116T123000
DTSTAMP:20260425T151443
CREATED:20181024T132043Z
LAST-MODIFIED:20190924T085912Z
UID:19686-1542290400-1542371400@womblab.com
SUMMARY:VIII Ed. - CORSO TEORICO PRATICO SULLA TECNICA DI BY-PASS CON SAFENA IN SITU
DESCRIPTION:[vc_row css_animation=”” row_type=”row” use_row_as_full_screen_section=”no” type=”full_width” angled_section=”no” text_align=”left” background_image_as_pattern=”without_pattern”][vc_column width=”1/2″ css=”.vc_custom_1530701889484{border-right-width: 1px !important;border-right-color: #cccccc !important;border-right-style: solid !important;}”][vc_column_text] \nAVEZZANO (AQ) 15 |16 NOVEMBRE 2018\n[/vc_column_text][vc_empty_space][vc_single_image image=”19687″ img_size=”full” style=”vc_box_border” qode_css_animation=””][/vc_column][vc_column width=”1/2″][vc_empty_space][vc_column_text] \nABOUT THIS PROJECT\n\nScopo dell’incontro è approfondire le tematiche relative all’ attualità e all’ efficacia della tecnica di by-pass con safena in situ\, con un orientamento multidisciplinare teorico- pratico volto a migliorare la conoscenza della procedura: dall’ approccio al paziente\, alla tecnica operatoria\, dalla diagnostica al follow-up post-chirurgico. \nEVENTO ECM\nCREDITI 14\,5 \nIl corso è di tipo residenziale\, è rivolto ad un massimo di 15 partecipanti. \nSede del corso\n\nPrimo giorno: Sala Riunioni Ospedale SS. Filippo e Nicola\nVia G. Di Vittorio — Avezzano (AQ)\nSecondo giorno: U.O.C. di Chirurgia Vascolare\nOspedale SS. Filippo e Nicola\nVia G. Di Vittorio — Avezzano (AQ)\n\nResponsabile del corso\nDr. Marcello D’Elia\nResponsabile U.O.C. di Chirurgia Vascolare dell’Ospedale SS. Filippo e Nicola di Avezzano \nSEGRETERIA ORGANIZZATIVA E PROVIDER ECM\nWomblab Srl \nElide Messineo \nemail: elide@womblab.com \nTel. +39 011 4336307 \nFax. +39 011 5612849 \n\n[/vc_column_text][vc_empty_space height=”16px”]\n\n	\n	    Download programma	\n\n[vc_empty_space height=”16px”][/vc_column][/vc_row]
URL:https://womblab.com/evento/corso-teorico-pratico-sulla-tecnica-di-by-pass-con-safena-in-situ/
LOCATION:U.O. di Chirurgia Vascolare Ospedale SS. Filippo e Nicola\, Via G. di Vittorio\, 67051\, Avezzano\, AQ\, Italia
CATEGORIES:COLLPRIMVASC
ATTACH;FMTTYPE=image/jpeg:https://womblab.com/wp-content/uploads/2018/10/avezzano_15-16_Novembre_corso_ELV.jpg
END:VEVENT
BEGIN:VEVENT
DTSTART;TZID=Europe/Rome:20181129T080000
DTEND;TZID=Europe/Rome:20181201T170000
DTSTAMP:20260425T151443
CREATED:20180919T160612Z
LAST-MODIFIED:20190924T132329Z
UID:18738-1543478400-1543683600@womblab.com
SUMMARY:4th EDITION – VASCULAR SURGICAL ANATOMY COURSE
DESCRIPTION:[vc_row css_animation=”” row_type=”row” use_row_as_full_screen_section=”no” type=”full_width” angled_section=”no” text_align=”left” background_image_as_pattern=”without_pattern”][vc_column width=”1/2″ css=”.vc_custom_1530701889484{border-right-width: 1px !important;border-right-color: #cccccc !important;border-right-style: solid !important;}”][vc_column_text] \nPARIS 29 NOVEMBER | 1 DECEMBER 2018\n[/vc_column_text][vc_empty_space height=”40px”][vc_single_image image=”18778″ img_size=”full” alignment=”center” qode_css_animation=””][/vc_column][vc_column width=”1/2″][vc_empty_space height=”40px”][vc_column_text] \nABOUT THIS PROJECT\nMira a migliorare la conoscenza dell’accesso anatomico all’aorta toracica e addominale e ai suoi rami\, tra cui dissezioni anatomiche laparotomiche e laparoscopiche e pratica su cadaveri freschi\, con il contributo di esperti in questo campo di Chirurgia Vascolare. Il corso è aperto a chirurghi vascolari e generali di tutto il mondo che hanno completato con successo la loro formazione chirurgica o sono di livello avanzato. \nI partecipanti trarranno beneficio dall’esperienza di lezioni specialistiche in chirurgia aortica in un contesto educativo molto interattivo e stimolante. \nLa lingua ufficiale è l’inglese.\n \nNumero CHIUSO – Massimo 30 Partecipanti. \nResponsabile scientifico Luca Garriboli \n\nCourse objective\nThis specific vascular course aims at improving knowledge of anatomical access to the thoracic and abdominal aorta and its branches including anatomic laparotomic and laparoscopic dissections and practice on fresh cadavers\, with the contribution of experts in this field of Vascular Surgery. \nThe course is open to Vascular and General Surgeons from around the world who have successfully completed their surgical training or are at an advanced level of training. \nMaximum 30 participants – The official language isEnglish.\n \nScientific manager Luca Garriboli \n[/vc_column_text][vc_empty_space height=”40px”][vc_column_text] \n\nMODALITA’ DI PAGAMENTO – TERM OF PAYMENT\n€ 2000 + 22% IVA (importo totale € 2440) 1500 € + IVA (importo totale 1830 € per ciascuno) Quota per specializzandi (solo se accompagnati da una certificazione dell’Università) partecipazione al corso in un gruppo di 3 persone. \n– – – – – – – – – – – – – – – – – – – – – – – – \nRegistration fee: € 2000 + 22% VAT (Total amount € 2440) A fee reduction is possible for residents (only if accompanied by a certification of the University) or if you join the course in a group of 3 people. In this case the fee is 1500€ + VAT (Total amount € 1830 for each). \nMODALITA’ DI PAGAMENTO – TERM OF PAYMENT\n\n\nEffettuare il pagamento della quota di iscrizione tramite bonifico bancario sul c/c intestato a: WOMBLAB SRL – Codice IBAN: IT90N0304801000000000091648 oggetto: “Paris VASA 2018 Vascular Course Enrollment”. \n– – – – – – – – – – – – – – – – – – – – – – – – \nMake the payment of the registration fee by bank transfer on the c / c payable to: WOMBLAB SRL – IBAN Code: IT90N0304801000000000091648 Object: “Paris VASA 2018 Vascular Course Enrollment”. \n\n[/vc_column_text][vc_empty_space height=”40px”]\n\n	\n	    DOWNLOAD REGISTRATION FORM - SCHEDA DI ISCRIZIONE	\n\n[vc_empty_space height=”40px”]\n\n	\n	    Download programma	\n\n[vc_empty_space height=”40px”]\n\n	\n	    POST EVENT REPORT	\n\n[vc_empty_space height=”40px”][/vc_column][/vc_row]
URL:https://womblab.com/evento/4th-edition-vascular-surgical-anatomy-course/
LOCATION:Università di Parigi – Universitè Paris-Descartes Laboratoire d’Anatomie 45\, rue des Saint-Pères\, Paris\, Rue des Saint-Pères\, Paris\, Francia
CATEGORIES:COLLPRIMVASC,WOMBLAB
ATTACH;FMTTYPE=image/jpeg:https://womblab.com/wp-content/uploads/2018/09/Parigi_2018.jpg
END:VEVENT
END:VCALENDAR