BEGIN:VCALENDAR
VERSION:2.0
PRODID:-//WOMBLAB - ECPv6.15.20//NONSGML v1.0//EN
CALSCALE:GREGORIAN
METHOD:PUBLISH
X-WR-CALNAME:WOMBLAB
X-ORIGINAL-URL:https://womblab.com
X-WR-CALDESC:Events for WOMBLAB
REFRESH-INTERVAL;VALUE=DURATION:PT1H
X-Robots-Tag:noindex
X-PUBLISHED-TTL:PT1H
BEGIN:VTIMEZONE
TZID:Europe/Rome
BEGIN:DAYLIGHT
TZOFFSETFROM:+0100
TZOFFSETTO:+0200
TZNAME:CEST
DTSTART:20170326T010000
END:DAYLIGHT
BEGIN:STANDARD
TZOFFSETFROM:+0200
TZOFFSETTO:+0100
TZNAME:CET
DTSTART:20171029T010000
END:STANDARD
BEGIN:DAYLIGHT
TZOFFSETFROM:+0100
TZOFFSETTO:+0200
TZNAME:CEST
DTSTART:20180325T010000
END:DAYLIGHT
BEGIN:STANDARD
TZOFFSETFROM:+0200
TZOFFSETTO:+0100
TZNAME:CET
DTSTART:20181028T010000
END:STANDARD
BEGIN:DAYLIGHT
TZOFFSETFROM:+0100
TZOFFSETTO:+0200
TZNAME:CEST
DTSTART:20190331T010000
END:DAYLIGHT
BEGIN:STANDARD
TZOFFSETFROM:+0200
TZOFFSETTO:+0100
TZNAME:CET
DTSTART:20191027T010000
END:STANDARD
END:VTIMEZONE
BEGIN:VEVENT
DTSTART;TZID=Europe/Rome:20180925T170000
DTEND;TZID=Europe/Rome:20180926T170000
DTSTAMP:20260425T180212
CREATED:20180919T154605Z
LAST-MODIFIED:20190924T081701Z
UID:18731-1537894800-1537981200@womblab.com
SUMMARY:CORSO OSIRIX - II EDIZIONE
DESCRIPTION:[vc_row css_animation=”” row_type=”row” use_row_as_full_screen_section=”no” type=”full_width” angled_section=”no” text_align=”left” background_image_as_pattern=”without_pattern”][vc_column][/vc_column][/vc_row][vc_row css_animation=”” row_type=”row” use_row_as_full_screen_section=”no” type=”full_width” angled_section=”no” text_align=”left” background_image_as_pattern=”without_pattern”][vc_column width=”1/2″ css=”.vc_custom_1530701889484{border-right-width: 1px !important;border-right-color: #cccccc !important;border-right-style: solid !important;}”][vc_column_text] \nPALERMO 25 | 26 SETTEMBRE 2018\n[/vc_column_text][vc_empty_space height=”40px”][vc_single_image image=”18733″ img_size=”full” style=”vc_box_border” qode_css_animation=””][/vc_column][vc_column width=”1/2″][vc_empty_space height=”40px”][vc_column_text] \nABOUT THIS PROJECT\nLo scopo è quello di fornire ai partecipanti le competenze necessarie per la pianificazione ed il trattamento di aneurismi dell’aorta addominale/toracica con approccio endovascolare. \nNO ECM\nCOMITATO SCIENTIFICO\nEmiliano Chisci\, Diletta Loschi \nMODALITA’ DI PARTECIPAZIONE\nCorso riservato ad invito\nnumero chiuso: massimo 10 iscritti \nSEGRETERIA ORGANIZZATIVA\nWOMBLAB srl\nCorso G. Matteotti\, 38 – 10121 Torino\nT +39 011 4336307\nM +39 3464761243\nF +39 011 5612849\nbarbara@womblab.com[/vc_column_text][vc_empty_space height=”40px”]\n\n	\n	    Download presentazioni	\n\n[vc_empty_space height=”40px”]\n\n	\n	    Download programma	\n\n[vc_empty_space height=”40px”][/vc_column][/vc_row]
URL:https://womblab.com/evento/corso-osirix-ii-edizione/
LOCATION:MERCATO EXCELSIOR\, Via Lucifora Giovanni\, 9\, Palermo\, Pa\, Italia
CATEGORIES:COLLPRIMVASC
ATTACH;FMTTYPE=image/jpeg:https://womblab.com/wp-content/uploads/2018/09/Osirix_2018.jpg
END:VEVENT
BEGIN:VEVENT
DTSTART;TZID=Europe/Rome:20180926T120000
DTEND;TZID=Europe/Rome:20180927T170000
DTSTAMP:20260425T180212
CREATED:20180829T082729Z
LAST-MODIFIED:20190920T132734Z
UID:18690-1537963200-1538067600@womblab.com
SUMMARY:XIII CONVEGNO NAZIONALE DI CHIRURGIA VASCOLARE
DESCRIPTION:[vc_row css_animation=”” row_type=”row” use_row_as_full_screen_section=”no” type=”full_width” angled_section=”no” text_align=”left” background_image_as_pattern=”without_pattern”][vc_column width=”1/2″ css=”.vc_custom_1530701889484{border-right-width: 1px !important;border-right-color: #cccccc !important;border-right-style: solid !important;}”][vc_column_text] \nPALERMO 26 | 27 SETTEMBRE 2018\n[/vc_column_text][vc_empty_space height=”40px”][vc_single_image image=”17840″ img_size=”full” qode_css_animation=””][/vc_column][vc_column width=”1/2″][vc_empty_space height=”40px”][vc_column_text] \nABOUT THIS PROJECT\nXIII CONVEGNO NAZIONALE del COLLEGIO ITALIANO DEI PRIMARI OSPEDALIERI di CHIRURGIA VASCOLARE \nL’evento è rivolto solo ai soci del collegio \nEVENTO ECM\n7 Crediti[/vc_column_text][vc_empty_space height=”40px”]\n\n	\n	    Download Presentazioni	\n\n[vc_empty_space height=”40px”]\n\n	\n	    Relazione post-evento	\n\n[vc_empty_space height=”40px”]\n\n	\n	    Download programma	\n\n[vc_empty_space height=”40px”]\n\n	\n	    Download Scheda di iscrizione	\n\n[/vc_column][/vc_row]
URL:https://womblab.com/evento/xiii-convegno-nazionale-di-chirurgia-vascolare/
LOCATION:MERCATO EXCELSIOR\, Via Lucifora Giovanni\, 9\, Palermo\, Pa\, Italia
CATEGORIES:COLLPRIMVASC
ATTACH;FMTTYPE=image/png:https://womblab.com/wp-content/uploads/2018/08/Schermata-2019-07-19-alle-09.15.08.png
END:VEVENT
END:VCALENDAR