BEGIN:VCALENDAR
VERSION:2.0
PRODID:-//WOMBLAB - ECPv6.15.20//NONSGML v1.0//EN
CALSCALE:GREGORIAN
METHOD:PUBLISH
X-WR-CALNAME:WOMBLAB
X-ORIGINAL-URL:https://womblab.com
X-WR-CALDESC:Events for WOMBLAB
REFRESH-INTERVAL;VALUE=DURATION:PT1H
X-Robots-Tag:noindex
X-PUBLISHED-TTL:PT1H
BEGIN:VTIMEZONE
TZID:Europe/Rome
BEGIN:DAYLIGHT
TZOFFSETFROM:+0100
TZOFFSETTO:+0200
TZNAME:CEST
DTSTART:20190331T010000
END:DAYLIGHT
BEGIN:STANDARD
TZOFFSETFROM:+0200
TZOFFSETTO:+0100
TZNAME:CET
DTSTART:20191027T010000
END:STANDARD
BEGIN:DAYLIGHT
TZOFFSETFROM:+0100
TZOFFSETTO:+0200
TZNAME:CEST
DTSTART:20200329T010000
END:DAYLIGHT
BEGIN:STANDARD
TZOFFSETFROM:+0200
TZOFFSETTO:+0100
TZNAME:CET
DTSTART:20201025T010000
END:STANDARD
BEGIN:DAYLIGHT
TZOFFSETFROM:+0100
TZOFFSETTO:+0200
TZNAME:CEST
DTSTART:20210328T010000
END:DAYLIGHT
BEGIN:STANDARD
TZOFFSETFROM:+0200
TZOFFSETTO:+0100
TZNAME:CET
DTSTART:20211031T010000
END:STANDARD
END:VTIMEZONE
BEGIN:VEVENT
DTSTART;VALUE=DATE:20200501
DTEND;VALUE=DATE:20200502
DTSTAMP:20260422T234953
CREATED:20200507T155209Z
LAST-MODIFIED:20200508T102427Z
UID:24748-1588291200-1588377599@womblab.com
SUMMARY:Corso FAD - Le misure sanitarie di prevenzione
DESCRIPTION:Events				\n				\n				\n				\n					13-14 apr 2026				\n				\n					\n				\n		\n					\n				\n				\n																														\n				\n		\n				\n				\n									Dal 13-04-2026 al 14-04-2026								\n				\n				\n				\n							\n			\n						\n		\n						\n				\n				\n				\n									Inizio iscrizioni: 05-03-2026 Fine iscrizione: 14-04-2026 								\n				\n				\n				\n							\n			\n						\n		\n						\n				\n				\n				\n									Crediti ECM: 7.0 ID Agenas: 473644 Segreteria organizzativa e Provider ECM: 4596 								\n				\n				\n				\n							\n			\n		\n						\n				\n				\n				\n									\n					\n						\n									ISCRIVITI\n					\n					\n				\n								\n				\n				\n					\n				\n		\n					\n				\n				\n							\n			\n		\n						\n				\n		\n		\n				\n				\n					Presentazione				\n				\n				\n		\n				\n				\n									Nel 2026 la Chirurgia Vascolare di Potenza celebra il ventesimo anniversario dalla sua nascita.Tale ricorrenza verrà celebrata con un congresso dedicato alle principali patologie vascolari tempo-dipendenti\, la cui gestione rappresenta un elemento fondamentale del bagaglio culturale del chirurgo vascolare.L’evento rappresenta un’occasione di confronto multidisciplinare\, nel quale verranno presentate le tecniche tradizionali ed innovative per il trattamento delle patologie arteriose e venose in urgenza ed emergenza.L’incontro riserverà ampio spazio alla discussione per condividere e confrontare le nostre esperienze.   Responsabile scientifico: Andrea Esposito   Per informazioni sofia@womblab.com P: 011 433 6307 M: +39 335 7127307 								\n				\n				\n				\n				\n				\n							\n			\n		\n						\n				\n		\n		\n				\n				\n					Elenco delle professioni e discipline a cui l'evento è rivolto				\n				\n				\n		\n				\n				\n									Medico chirurgo: Cardiochirurgia\, Cardiologia\, Chirurgia Generale\, Chirurgia toracica\, Chirurgia vascolare\, Radiodiagnostica.  								\n				\n				\n				\n				\n				\n							\n			\n		\n						\n				\n		\n		\n				\n				\n					Localizzazione				\n				\n				\n		\n				\n				\n									Potenza – MUSEO ARCHEOLOGICO DINU ADAMESTEANUVIA ANDREA SERRAO\, 11\, 85100 Potenza (PZ)Tel. 0971 21719								\n				\n				\n				\n				\n				\n							\n			\n		\n						\n				\n				\n				\n									\n					\n						\n									ISCRIVITI
URL:https://womblab.com/evento/le-misure-sanitarie-di-prevenzione/
LOCATION:trainingecm.com\, trainingecm.com\, Italia
CATEGORIES:Trainingecm_fad
ATTACH;FMTTYPE=image/jpeg:https://womblab.com/wp-content/uploads/2020/05/foto_corso13.jpg
ORGANIZER;CN="Trainingecm.com":MAILTO:info@trainingecm.com
END:VEVENT
BEGIN:VEVENT
DTSTART;VALUE=DATE:20200501
DTEND;VALUE=DATE:20200502
DTSTAMP:20260422T234954
CREATED:20200508T133217Z
LAST-MODIFIED:20200508T133537Z
UID:24773-1588291200-1588377599@womblab.com
SUMMARY:Corso FAD - 2nd Educational Day Procedure Endovascolari
DESCRIPTION:Events				\n				\n				\n				\n					13-14 apr 2026				\n				\n					\n				\n		\n					\n				\n				\n																														\n				\n		\n				\n				\n									Dal 13-04-2026 al 14-04-2026								\n				\n				\n				\n							\n			\n						\n		\n						\n				\n				\n				\n									Inizio iscrizioni: 05-03-2026 Fine iscrizione: 14-04-2026 								\n				\n				\n				\n							\n			\n						\n		\n						\n				\n				\n				\n									Crediti ECM: 7.0 ID Agenas: 473644 Segreteria organizzativa e Provider ECM: 4596 								\n				\n				\n				\n							\n			\n		\n						\n				\n				\n				\n									\n					\n						\n									ISCRIVITI\n					\n					\n				\n								\n				\n				\n					\n				\n		\n					\n				\n				\n							\n			\n		\n						\n				\n		\n		\n				\n				\n					Presentazione				\n				\n				\n		\n				\n				\n									Nel 2026 la Chirurgia Vascolare di Potenza celebra il ventesimo anniversario dalla sua nascita.Tale ricorrenza verrà celebrata con un congresso dedicato alle principali patologie vascolari tempo-dipendenti\, la cui gestione rappresenta un elemento fondamentale del bagaglio culturale del chirurgo vascolare.L’evento rappresenta un’occasione di confronto multidisciplinare\, nel quale verranno presentate le tecniche tradizionali ed innovative per il trattamento delle patologie arteriose e venose in urgenza ed emergenza.L’incontro riserverà ampio spazio alla discussione per condividere e confrontare le nostre esperienze.   Responsabile scientifico: Andrea Esposito   Per informazioni sofia@womblab.com P: 011 433 6307 M: +39 335 7127307 								\n				\n				\n				\n				\n				\n							\n			\n		\n						\n				\n		\n		\n				\n				\n					Elenco delle professioni e discipline a cui l'evento è rivolto				\n				\n				\n		\n				\n				\n									Medico chirurgo: Cardiochirurgia\, Cardiologia\, Chirurgia Generale\, Chirurgia toracica\, Chirurgia vascolare\, Radiodiagnostica.  								\n				\n				\n				\n				\n				\n							\n			\n		\n						\n				\n		\n		\n				\n				\n					Localizzazione				\n				\n				\n		\n				\n				\n									Potenza – MUSEO ARCHEOLOGICO DINU ADAMESTEANUVIA ANDREA SERRAO\, 11\, 85100 Potenza (PZ)Tel. 0971 21719								\n				\n				\n				\n				\n				\n							\n			\n		\n						\n				\n				\n				\n									\n					\n						\n									ISCRIVITI
URL:https://womblab.com/evento/corso-fad-2nd-educational-day-procedure-endovascolari/
LOCATION:trainingecm.com\, trainingecm.com\, Italia
CATEGORIES:Trainingecm_fad,WOMBLAB
ATTACH;FMTTYPE=image/jpeg:https://womblab.com/wp-content/uploads/2020/05/foto_corso11-2ND-EDUCATIONA-DAY.jpg
ORGANIZER;CN="Trainingecm.com":MAILTO:info@trainingecm.com
END:VEVENT
END:VCALENDAR