BEGIN:VCALENDAR
VERSION:2.0
PRODID:-//WOMBLAB - ECPv6.15.20//NONSGML v1.0//EN
CALSCALE:GREGORIAN
METHOD:PUBLISH
X-ORIGINAL-URL:https://womblab.com
X-WR-CALDESC:Events for WOMBLAB
REFRESH-INTERVAL;VALUE=DURATION:PT1H
X-Robots-Tag:noindex
X-PUBLISHED-TTL:PT1H
BEGIN:VTIMEZONE
TZID:Europe/Rome
BEGIN:DAYLIGHT
TZOFFSETFROM:+0100
TZOFFSETTO:+0200
TZNAME:CEST
DTSTART:20170326T010000
END:DAYLIGHT
BEGIN:STANDARD
TZOFFSETFROM:+0200
TZOFFSETTO:+0100
TZNAME:CET
DTSTART:20171029T010000
END:STANDARD
BEGIN:DAYLIGHT
TZOFFSETFROM:+0100
TZOFFSETTO:+0200
TZNAME:CEST
DTSTART:20180325T010000
END:DAYLIGHT
BEGIN:STANDARD
TZOFFSETFROM:+0200
TZOFFSETTO:+0100
TZNAME:CET
DTSTART:20181028T010000
END:STANDARD
BEGIN:DAYLIGHT
TZOFFSETFROM:+0100
TZOFFSETTO:+0200
TZNAME:CEST
DTSTART:20190331T010000
END:DAYLIGHT
BEGIN:STANDARD
TZOFFSETFROM:+0200
TZOFFSETTO:+0100
TZNAME:CET
DTSTART:20191027T010000
END:STANDARD
END:VTIMEZONE
BEGIN:VEVENT
DTSTART;TZID=Europe/Rome:20180621T080000
DTEND;TZID=Europe/Rome:20180622T133000
DTSTAMP:20260424T174831
CREATED:20180928T105839Z
LAST-MODIFIED:20190924T073843Z
UID:18928-1529568000-1529674200@womblab.com
SUMMARY:AORTIC TEAM GESTIONE INTEGRATA E MULTIDISCIPLINARE DELLA PATOLOGIA AORTICA
DESCRIPTION:Events				\n				\n				\n				\n					13-14 apr 2026				\n				\n					\n				\n		\n					\n				\n				\n																														\n				\n		\n				\n				\n									Dal 13-04-2026 al 14-04-2026								\n				\n				\n				\n							\n			\n						\n		\n						\n				\n				\n				\n									Inizio iscrizioni: 05-03-2026 Fine iscrizione: 14-04-2026 								\n				\n				\n				\n							\n			\n						\n		\n						\n				\n				\n				\n									Crediti ECM: 7.0 ID Agenas: 473644 Segreteria organizzativa e Provider ECM: 4596 								\n				\n				\n				\n							\n			\n		\n						\n				\n				\n				\n									\n					\n						\n									ISCRIVITI\n					\n					\n				\n								\n				\n				\n					\n				\n		\n					\n				\n				\n							\n			\n		\n						\n				\n		\n		\n				\n				\n					Presentazione				\n				\n				\n		\n				\n				\n									Nel 2026 la Chirurgia Vascolare di Potenza celebra il ventesimo anniversario dalla sua nascita.Tale ricorrenza verrà celebrata con un congresso dedicato alle principali patologie vascolari tempo-dipendenti\, la cui gestione rappresenta un elemento fondamentale del bagaglio culturale del chirurgo vascolare.L’evento rappresenta un’occasione di confronto multidisciplinare\, nel quale verranno presentate le tecniche tradizionali ed innovative per il trattamento delle patologie arteriose e venose in urgenza ed emergenza.L’incontro riserverà ampio spazio alla discussione per condividere e confrontare le nostre esperienze.   Responsabile scientifico: Andrea Esposito   Per informazioni sofia@womblab.com P: 011 433 6307 M: +39 335 7127307 								\n				\n				\n				\n				\n				\n							\n			\n		\n						\n				\n		\n		\n				\n				\n					Elenco delle professioni e discipline a cui l'evento è rivolto				\n				\n				\n		\n				\n				\n									Medico chirurgo: Cardiochirurgia\, Cardiologia\, Chirurgia Generale\, Chirurgia toracica\, Chirurgia vascolare\, Radiodiagnostica.  								\n				\n				\n				\n				\n				\n							\n			\n		\n						\n				\n		\n		\n				\n				\n					Localizzazione				\n				\n				\n		\n				\n				\n									Potenza – MUSEO ARCHEOLOGICO DINU ADAMESTEANUVIA ANDREA SERRAO\, 11\, 85100 Potenza (PZ)Tel. 0971 21719								\n				\n				\n				\n				\n				\n							\n			\n		\n						\n				\n				\n				\n									\n					\n						\n									ISCRIVITI
URL:https://womblab.com/evento/aortic-team-gestione-integrata-e-multidisciplinare-della-patologia-aortica/
LOCATION:Palazzo Madama\, Piazza Castello\, Torino\, 10122\, Italia
CATEGORIES:WOMBLAB
ATTACH;FMTTYPE=image/jpeg:https://womblab.com/wp-content/uploads/2017/05/musei-torino-elenco-completo.jpg
END:VEVENT
END:VCALENDAR